{"text_format":"1","workbook":"xlsx","n_sheets":9,"sheets":["Pie Chart","SNAP","WIC","School Meals","Summer Meals","Feeding America Food Bank","Other Sources","Second Helpings","Charitable Response"],"not_rendered":{"charts":1,"images":1,"macros":1,"external_links":0,"defined_names":4,"comments":3,"pivot_tables":0},"unopened":[],"bounds":{"document_bytes":16777216,"sheet_cells":100000,"rows_first":2000,"rows_last":500,"rows_between":2000,"halvings":0,"cell_chars":16384,"cell_head_chars":4096},"cells_cut":0,"cells_raw":0,"read":"whole","date_system":"1900"}

{"sheet":"Pie Chart","index":0,"n_rows":31,"n_cols":15,"rows_kept":31,"cut":false,"hidden":false,"merged":[[16,10,16,13],[16,8,16,9]]}
["Choose County:","Marion","Source of Meals","Meal Equivalents"]
[null,null,"SNAP",{"$f":"INDEX(SNAP!S:S,MATCH($B$1,SNAP!P:P,0))","v":164327510.04016063}]
[null,null,"F&R School/Summer",{"$f":"INDEX('School Meals'!F:F,MATCH($B$1,'School Meals'!A:A,0))+INDEX('Summer Meals'!E:E,MATCH($B$1,'Summer Meals'!A:A,0))","v":25324274}]
[null,null,"FA Food Bank-non-Federal",{"$f":"INDEX('Feeding America Food Bank'!I:I,MATCH($B$1,'Feeding America Food Bank'!B:B,0))","v":9140576.6666666679}]
[null,null,"FA Food Bank-Federal",{"$f":"INDEX('Feeding America Food Bank'!H:H,MATCH($B$1,'Feeding America Food Bank'!B:B,0))","v":2957445.8333333335}]
[null,null,"WIC",{"$f":"INDEX(WIC!D:D,MATCH($B$1,WIC!A:A,0))","v":10887103.468875501}]
[null,null,"Charitable Response",{"$f":"INDEX('Charitable Response'!F:F,MATCH($B$1,'Charitable Response'!A:A,0))","v":4657738.6625000006}]
[null,null,"Other Private",{"$f":"INDEX('Other Sources'!B:B,MATCH($B$1,'Other Sources'!A:A,0))","v":6196140.2666666666}]
[null,null,"Other Fed",{"$f":"INDEX('Other Sources'!C:C,MATCH($B$1,'Other Sources'!A:A,0))","v":282041.89999999997}]
[null,null,"-------------------------------------------------------------"]
[null,null,"2012 Total",{"$f":"SUM(D2:D9)","v":223772830.8382028}]
[]
[]
[]
[]
[]
[null,null,"Federal",{"$f":"D2+D3+D5+D6+D9","v":203778375.24236947},null,{"$f":"D17/D11","v":0.91064842179035499},null,null,"County:",null,{"$f":"B1","v":"Marion"}]
[null,null,"Non-Federal",{"$f":"D4+D7+D8","v":19994455.595833335},null,{"$f":"D18/D11","v":8.9351578209644983E-2}]
[]
[]
[]
[]
[]
[]
[]
[]
[]
[]
[]
[null,null,null,null,null,null,null,null,"Conversion from $ to Pounds",null,null,null,null,null,1.66]
[null,null,null,null,null,null,null,null,"Conversion from Pounds to Meals",null,null,null,null,null,1.2]

{"sheet":"SNAP","index":1,"n_rows":94,"n_cols":19,"rows_kept":94,"cut":false,"hidden":true,"merged":[]}
["County","Jan","Feb","Mar","Apr","May","Jun","Jul","Aug","Sept","Oct","Nov","Dec","Total",null,null,"Dollars","Pounds","Meals"]
["Adams",381.3,383,387.1,378.5,380.1,388.6,402.4,410.3,381.5,384,387.8,386.2,{"$f":"SUM(B2:M2)","v":4650.8},null,{"$f":"A2","v":"Adams"},{"$f":"N2*1000","v":4650800},{"$f":"Q2/'Pie Chart'!$O$30","v":2801686.7469879519},{"$f":"R2/'Pie Chart'!$O$31","v":2334738.9558232934}]
["Allen",7225.5,7215.8,7234.6,7184.5,7239,7231.5,8968.2000000000007,7383.1,7363.6,7392.3,7365.1,7372.9,89176.1,null,{"$f":"A3","v":"Allen"},{"$f":"N3*1000","v":89176100},{"$f":"Q3/'Pie Chart'!$O$30","v":53720542.1686747},{"$f":"R3/'Pie Chart'!$O$31","v":44767118.473895587}]
["Bartholomew",1061,1050.5,1060.5,1036,1049.8,1018.9,1031,1051.4000000000001,1047,1053.2,1040.9000000000001,1062.8,12563,null,"Bartholomew",12563000,{"$f":"Q4/'Pie Chart'!$O$30","v":7568072.2891566269},{"$f":"R4/'Pie Chart'!$O$31","v":6306726.9076305227}]
["Benton",160.5,154.1,150.80000000000001,144.30000000000001,146,139,133.6,147.5,150.9,145.19999999999999,143.80000000000001,143.5,1759.2,null,"Benton",1759200,{"$f":"Q5/'Pie Chart'!$O$30","v":1059759.0361445784},{"$f":"R5/'Pie Chart'!$O$31","v":883132.53012048197}]
["Blackford",284.5,283.5,288.2,285.5,282.2,275.60000000000002,274,279.7,283.89999999999998,279.60000000000002,281.8,288.7,3387.2,null,"Blackford",3387200,{"$f":"Q6/'Pie Chart'!$O$30","v":2040481.9277108435},{"$f":"R6/'Pie Chart'!$O$31","v":1700401.606425703}]
["Boone",499.8,501,499.6,504.2,500.8,499.4,492.8,497.1,498.9,507.2,501.5,501.1,6003.4000000000005,null,"Boone",6003400.0000000009,{"$f":"Q7/'Pie Chart'!$O$30","v":3616506.0240963865},{"$f":"R7/'Pie Chart'!$O$31","v":3013755.0200803224}]
["Brown",198,203,203.3,196.9,205.2,201.2,199.7,207,207.3,206.4,208.4,204.5,2440.9,null,"Brown",2440900,{"$f":"Q8/'Pie Chart'!$O$30","v":1470421.686746988},{"$f":"R8/'Pie Chart'!$O$31","v":1225351.40562249}]
["Carroll",198.9,194.5,197.2,192.3,192.8,201.4,198.7,202.1,202.9,207.6,202.4,204.1,2394.8999999999996,null,"Carroll",2394899.9999999995,{"$f":"Q9/'Pie Chart'!$O$30","v":1442710.8433734938},{"$f":"R9/'Pie Chart'!$O$31","v":1202259.0361445781}]
["Cass",703,697.7,706.5,697.2,689.7,685.4,705.3,700,705.3,722.1,725.3,725,8462.5,null,"Cass",8462500,{"$f":"Q10/'Pie Chart'!$O$30","v":5097891.5662650606},{"$f":"R10/'Pie Chart'!$O$31","v":4248242.9718875503}]
["Clark",1669,1644.6,1870,1635.4,1647.1,1628.9,1642,1639.8,1616.5,1626.1,1619.3,1614.6,19853.299999999996,null,"Clark",19853299.999999996,{"$f":"Q11/'Pie Chart'!$O$30","v":11959819.277108433},{"$f":"R11/'Pie Chart'!$O$31","v":9966516.0642570276}]
["Clay",473.2,472.6,480.9,478.3,483.3,494.5,496.4,497.9,512.70000000000005,514.29999999999995,511,516.70000000000005,5931.8,null,"Clay",5931800,{"$f":"Q12/'Pie Chart'!$O$30","v":3573373.4939759038},{"$f":"R12/'Pie Chart'!$O$31","v":2977811.2449799199}]
["Clinton",622.4,624.6,611.4,623.5,619.4,611.79999999999995,622.70000000000005,622.5,614.29999999999995,623.20000000000005,615.1,620.29999999999995,7431.2000000000007,null,"Clinton",7431200.0000000009,{"$f":"Q13/'Pie Chart'!$O$30","v":4476626.5060240971},{"$f":"R13/'Pie Chart'!$O$31","v":3730522.0883534146}]
["Crawford",204.3,199.8,198.5,196.5,200.3,201.6,201,202,202.4,205.5,204.9,207.5,2424.3000000000002,null,"Crawford",2424300,{"$f":"Q14/'Pie Chart'!$O$30","v":1460421.686746988},{"$f":"R14/'Pie Chart'!$O$31","v":1217018.0722891567}]
["Daviess",428.3,425.4,418.9,419.7,427.2,424.8,436.1,442.7,444,437.5,441.4,442.2,5188.2,null,"Daviess",5188200,{"$f":"Q15/'Pie Chart'!$O$30","v":3125421.686746988},{"$f":"R15/'Pie Chart'!$O$31","v":2604518.0722891567}]
["Dearborn",653.79999999999995,652.9,659.6,661.7,664.3,670.5,685.2,694.3,693.7,700.8,690.8,701.4,8129,null,"Dearborn",8129000,{"$f":"Q16/'Pie Chart'!$O$30","v":4896987.9518072288},{"$f":"R16/'Pie Chart'!$O$31","v":4080823.293172691}]
["Decatur",435.9,430.7,426.9,430.4,429,417.5,427.5,428.8,431.4,431.5,421.5,420.2,5131.3,null,"Decatur",5131300,{"$f":"Q17/'Pie Chart'!$O$30","v":3091144.5783132534},{"$f":"R17/'Pie Chart'!$O$31","v":2575953.8152610445}]
["Dekalb",587.29999999999995,585.1,586.4,566.4,572.20000000000005,567.4,572.70000000000005,568,551.70000000000005,557.29999999999995,561,558.20000000000005,6833.7000000000007,null,"Dekalb",6833700.0000000009,{"$f":"Q18/'Pie Chart'!$O$30","v":4116686.7469879524},{"$f":"R18/'Pie Chart'!$O$31","v":3430572.2891566269}]
["Delaware",2614.1,2622,2642.3,2626.8,2673,2699,2701.8,2727.1,2719.6,2752.2,2740.1,2700.9,32218.899999999998,null,"Delaware",32218899.999999996,{"$f":"Q19/'Pie Chart'!$O$30","v":19408975.903614458},{"$f":"R19/'Pie Chart'!$O$31","v":16174146.586345382}]
["Dubois",287.89999999999998,291.89999999999998,294,289.39999999999998,285.2,283.2,283,280.3,274.39999999999998,281.3,272.5,265.3,3388.4000000000005,null,"Dubois",3388400.0000000005,{"$f":"Q20/'Pie Chart'!$O$30","v":2041204.8192771089},{"$f":"R20/'Pie Chart'!$O$31","v":1701004.0160642574}]
["Elkhart",3880.7,3795.8,3725.9,3633.6,3583.7,3542.5,3561.1,3590.2,3586.7,3599.2,3559.8,3567.8,43627,null,"Elkhart",43627000,{"$f":"Q21/'Pie Chart'!$O$30","v":26281325.301204819},{"$f":"R21/'Pie Chart'!$O$31","v":21901104.417670682}]
["Fayette",687.6,679.5,679.4,666.8,684.5,685.5,685.3,684.9,688.7,686.8,684.3,683.6,8196.9,null,"Fayette",8196900,{"$f":"Q22/'Pie Chart'!$O$30","v":4937891.5662650606},{"$f":"R22/'Pie Chart'!$O$31","v":4114909.6385542173}]
["Floyd",1295.9000000000001,1289.3,1295,1275.7,1294.8,1299.2,1292.7,1290.5,1291.3,1292.0999999999999,1286,1265.5999999999999,15468.1,null,"Floyd",15468100,{"$f":"Q23/'Pie Chart'!$O$30","v":9318132.5301204827},{"$f":"R23/'Pie Chart'!$O$31","v":7765110.4417670695}]
["Fountain",272.8,275.3,273.39999999999998,269.7,269.39999999999998,268.10000000000002,262.60000000000002,262.10000000000002,263,266.8,276.3,277.2,3236.7,null,"Fountain",3236700,{"$f":"Q24/'Pie Chart'!$O$30","v":1949819.2771084339},{"$f":"R24/'Pie Chart'!$O$31","v":1624849.3975903615}]
["Franklin",327.9,331,333.6,332.1,320.10000000000002,317.5,317.5,325,323.3,332,315.2,322,3897.2,null,"Franklin",3897200,{"$f":"Q25/'Pie Chart'!$O$30","v":2347710.8433734942},{"$f":"R25/'Pie Chart'!$O$31","v":1956425.7028112453}]
["Fulton",377,375.1,362.1,365.3,362.8,354.8,636.6,362.9,368.2,362.1,364.1,361.5,4652.5,null,"Fulton",4652500,{"$f":"Q26/'Pie Chart'!$O$30","v":2802710.8433734942},{"$f":"R26/'Pie Chart'!$O$31","v":2335592.3694779119}]
["Gibson",379.8,376,373.7,372.7,376.4,380.5,377.1,388.1,294.89999999999998,397.5,390.8,387.6,4495.1000000000004,null,"Gibson",4495100,{"$f":"Q27/'Pie Chart'!$O$30","v":2707891.5662650606},{"$f":"R27/'Pie Chart'!$O$31","v":2256576.3052208838}]
["Grant",1724.9,1730.1,1722.7,1705.4,1716.7,1710.7,1730.4,1741.4,1740.4,1731.6,1734.4,1745.9,20734.600000000002,null,"Grant",20734600.000000004,{"$f":"Q28/'Pie Chart'!$O$30","v":12490722.891566267},{"$f":"R28/'Pie Chart'!$O$31","v":10408935.74297189}]
["Greene",573.79999999999995,566.9,563.9,561.1,566.5,564.70000000000005,572.1,578.6,568.4,574.70000000000005,569.4,564.9,6824.9999999999982,null,"Greene",6824999.9999999981,{"$f":"Q29/'Pie Chart'!$O$30","v":4111445.7831325294},{"$f":"R29/'Pie Chart'!$O$31","v":3426204.8192771077}]
["Hamilton",1301.4000000000001,1296.4000000000001,1314.2,1297.9000000000001,1311.7,1318.2,1307.7,1344.4,1343.5,1362.7,1334.7,1318.5,15851.300000000001,null,"Hamilton",15851300.000000002,{"$f":"Q30/'Pie Chart'!$O$30","v":9548975.9036144596},{"$f":"R30/'Pie Chart'!$O$31","v":7957479.9196787169}]
["Hancock",729.9,733.9,727.8,727.5,718,724.6,729.1,737.7,735.9,733.8,730.7,732.8,8761.6999999999989,null,"Hancock",8761699.9999999981,{"$f":"Q31/'Pie Chart'!$O$30","v":5278132.5301204808},{"$f":"R31/'Pie Chart'!$O$31","v":4398443.7751004007}]
["Harrison",552.4,545.29999999999995,546.4,537.70000000000005,538.9,540,532.4,533.79999999999995,530.6,538.5,522.9,520,6438.9000000000005,null,"Harrison",6438900.0000000009,{"$f":"Q32/'Pie Chart'!$O$30","v":3878855.4216867476},{"$f":"R32/'Pie Chart'!$O$31","v":3232379.5180722899}]
["Hendricks",884.3,889.5,906.3,894.8,911.3,902.7,898,903.9,921.8,933.3,923.3,911.2,10880.4,null,"Hendricks",10880400,{"$f":"Q33/'Pie Chart'!$O$30","v":6554457.8313253019},{"$f":"R33/'Pie Chart'!$O$31","v":5462048.1927710855}]
["Henry",1062.0999999999999,1047.2,1057.3,1053.9000000000001,1049.2,1047.2,1047.9000000000001,1059.2,1066.3,1048.4000000000001,1049.9000000000001,1057.0999999999999,12645.699999999999,null,"Henry",12645699.999999998,{"$f":"Q34/'Pie Chart'!$O$30","v":7617891.5662650596},{"$f":"R34/'Pie Chart'!$O$31","v":6348242.9718875503}]
["Howard",1937.5,1910.5,1902.5,1887.9,1911.4,1913.9,1929.9,1953.8,1965.7,1963.6,1950.8,1927.6,23155.099999999995,null,"Howard",23155099.999999996,{"$f":"Q35/'Pie Chart'!$O$30","v":13948855.421686746},{"$f":"R35/'Pie Chart'!$O$31","v":11624046.184738956}]
["Huntington",560.70000000000005,554.70000000000005,555.20000000000005,543.20000000000005,537.1,537.20000000000005,545.6,547.4,556.29999999999995,565.4,568.5,576.1,6647.4000000000005,null,"Huntington",6647400.0000000009,{"$f":"Q36/'Pie Chart'!$O$30","v":4004457.8313253019},{"$f":"R36/'Pie Chart'!$O$31","v":3337048.1927710851}]
["Jackson",727,719.3,720.6,706.2,700.1,716.5,726.5,733.6,736.7,736.8,742.8,739.9,8706.0000000000018,null,"Jackson",8706000.0000000019,{"$f":"Q37/'Pie Chart'!$O$30","v":5244578.3132530134},{"$f":"R37/'Pie Chart'!$O$31","v":4370481.9277108451}]
["Jasper",442.6,447.3,433.5,419.4,425.9,425.3,430.3,434.8,436.8,429.5,434,440.1,5199.5000000000018,null,"Jasper",5199500.0000000019,{"$f":"Q38/'Pie Chart'!$O$30","v":3132228.9156626519},{"$f":"R38/'Pie Chart'!$O$31","v":2610190.7630522102}]
["Jay",374.1,373.1,368.3,359.9,354.3,353.9,394.4,356.4,352.8,360.4,355.5,361.1,4364.2000000000007,null,"Jay",4364200.0000000009,{"$f":"Q39/'Pie Chart'!$O$30","v":2629036.1445783139},{"$f":"R39/'Pie Chart'!$O$31","v":2190863.4538152618}]
["Jefferson",587.4,574.6,584.5,582,580.5,569.6,571,574.6,577.9,567.29999999999995,570.20000000000005,568.20000000000005,6907.7999999999993,null,"Jefferson",6907799.9999999991,{"$f":"Q40/'Pie Chart'!$O$30","v":4161325.3012048188},{"$f":"R40/'Pie Chart'!$O$31","v":3467771.084337349}]
["Jennings",561.79999999999995,566.29999999999995,545.4,537.6,534.29999999999995,537.79999999999995,535.4,535.70000000000005,536.29999999999995,546.29999999999995,547.4,554.29999999999995,6538.6,null,"Jennings",6538600,{"$f":"Q41/'Pie Chart'!$O$30","v":3938915.6626506024},{"$f":"R41/'Pie Chart'!$O$31","v":3282429.7188755022}]
["Johnson",1556,1577.1,1571.5,1582.2,1578.9,1569.9,1553.2,1576.8,1558.7,1564.5,1560.1,1548.2,18797.100000000002,null,"Johnson",18797100.000000004,{"$f":"Q42/'Pie Chart'!$O$30","v":11323554.216867473},{"$f":"R42/'Pie Chart'!$O$31","v":9436295.1807228941}]
["Knox",693.4,688.2,689.2,682.8,692.4,711.8,704.4,712.5,721.9,733.8,728.9,729.9,8489.1999999999989,null,"Knox",8489199.9999999981,{"$f":"Q43/'Pie Chart'!$O$30","v":5113975.9036144568},{"$f":"R43/'Pie Chart'!$O$31","v":4261646.5863453811}]
["Kosciusko",1013.6,995,999.9,987.6,997,988.9,1006.1,1002.2,1006.4,999.6,982.1,988.7,11967.100000000002,null,"Kosciusko",11967100.000000002,{"$f":"Q44/'Pie Chart'!$O$30","v":7209096.3855421701},{"$f":"R44/'Pie Chart'!$O$31","v":6007580.3212851416}]
["Lagrange",283.39999999999998,273,266.8,256.10000000000002,242.7,230.9,232.3,242.2,251.6,245.9,248,244,3016.9000000000005,null,"Lagrange",3016900.0000000005,{"$f":"Q45/'Pie Chart'!$O$30","v":1817409.6385542173},{"$f":"R45/'Pie Chart'!$O$31","v":1514508.0321285145}]
["Lake",12918,12724,12624.4,12483.6,13465.4,12978.7,14263.2,15171.4,13000.2,13150.9,12982.6,13045,158807.4,null,"Lake",158807400,{"$f":"Q46/'Pie Chart'!$O$30","v":95667108.433734939},{"$f":"R46/'Pie Chart'!$O$31","v":79722590.361445785}]
["Laporte",2515.8000000000002,2483.6,2466.9,2451.6999999999998,2444.8000000000002,2443.9,2487.9,2504,2510.1999999999998,2539.6999999999998,2522.8000000000002,2534.5,29905.8,null,"Laporte",29905800,{"$f":"Q47/'Pie Chart'!$O$30","v":18015542.1686747},{"$f":"R47/'Pie Chart'!$O$31","v":15012951.807228917}]
["Lawrence",792.4,790.6,781.6,796.2,787.5,798.7,791.5,798.8,786.6,794.9,796.8,790,9505.6,null,"Lawrence",9505600,{"$f":"Q48/'Pie Chart'!$O$30","v":5726265.0602409644},{"$f":"R48/'Pie Chart'!$O$31","v":4771887.5502008041}]
["Madison",2965.3,2977.3,2925.7,2915.8,2892.2,2906.3,2978.7,3000.1,2989.1,3001.7,3020.2,3022.7,35595.1,null,"Madison",35595100,{"$f":"Q49/'Pie Chart'!$O$30","v":21442831.325301208},{"$f":"R49/'Pie Chart'!$O$31","v":17869026.104417674}]
["Marion",25742.7,25545,25793.200000000001,26480.3,26987.9,27421.5,28014,28583.3,28572.6,28349.599999999999,27955.3,27895,{"$f":"SUM(B50:M50)","v":327340.39999999997},null,"Marion",327340399.99999994,{"$f":"Q50/'Pie Chart'!$O$30","v":197193012.04819274},{"$f":"R50/'Pie Chart'!$O$31","v":164327510.04016063}]
["Marshall",619,620.9,598.79999999999995,583,585.9,564.20000000000005,559.1,571.5,568.1,568.9,574.5,585.1,6999.0000000000009,null,"Marshall",6999000.0000000009,{"$f":"Q51/'Pie Chart'!$O$30","v":4216265.0602409644},{"$f":"R51/'Pie Chart'!$O$31","v":3513554.2168674706}]
["Martin",143.6,143.4,148.69999999999999,150.80000000000001,149.6,157.1,152.69999999999999,153.69999999999999,154.9,155,150.69999999999999,153.5,1813.7000000000003,null,"Martin",1813700.0000000002,{"$f":"Q52/'Pie Chart'!$O$30","v":1092590.3614457834},{"$f":"R52/'Pie Chart'!$O$31","v":910491.96787148621}]
["Miami",736.8,742,738.9,727.2,715.8,713.9,727,736.5,737.9,724.3,717.2,727.9,8745.4,null,"Miami",8745400,{"$f":"Q53/'Pie Chart'!$O$30","v":5268313.2530120481},{"$f":"R53/'Pie Chart'!$O$31","v":4390261.044176707}]
["Monroe",1479.6,1490.4,1491.7,1467.9,1470.7,1486.7,1488.3,1503.1,1489.3,1500,1483.6,1489.7,17841,null,"Monroe",17841000,{"$f":"Q54/'Pie Chart'!$O$30","v":10747590.361445785},{"$f":"R54/'Pie Chart'!$O$31","v":8956325.3012048211}]
["Montgomery",621.6,607.29999999999995,612.70000000000005,610.9,619.6,613,615.9,617.5,604.4,608,612.1,622,7365,null,"Montgomery",7365000,{"$f":"Q55/'Pie Chart'!$O$30","v":4436746.9879518077},{"$f":"R55/'Pie Chart'!$O$31","v":3697289.1566265067}]
["Morgan",1241.9000000000001,1228.5,1240.9000000000001,1240.0999999999999,1240.0999999999999,1208.0999999999999,1191.8,1209.9000000000001,1207,1218.8,1200.0999999999999,1189.2,14616.4,null,"Morgan",14616400,{"$f":"Q56/'Pie Chart'!$O$30","v":8805060.2409638558},{"$f":"R56/'Pie Chart'!$O$31","v":7337550.2008032138}]
["Newton",230.5,231.1,227.3,226.8,221.4,219.6,219,234.6,233.1,242,230.6,231.6,2747.5999999999995,null,"Newton",2747599.9999999995,{"$f":"Q57/'Pie Chart'!$O$30","v":1655180.7228915661},{"$f":"R57/'Pie Chart'!$O$31","v":1379317.2690763052}]
["Noble",653.79999999999995,655.4,650.29999999999995,638.1,633.5,634.79999999999995,642.20000000000005,635.9,635,636.6,622.29999999999995,625.6,7663.5,null,"Noble",7663500,{"$f":"Q58/'Pie Chart'!$O$30","v":4616566.2650602413},{"$f":"R58/'Pie Chart'!$O$31","v":3847138.5542168678}]
["Ohio",56.1,59.8,61.7,62.4,63.3,63.4,63.5,64.599999999999994,63.5,61.7,61.3,61.7,743,null,"Ohio",743000,{"$f":"Q59/'Pie Chart'!$O$30","v":447590.36144578317},{"$f":"R59/'Pie Chart'!$O$31","v":372991.96787148598}]
["Orange",378.1,382.2,381.5,381.2,386.4,385.3,387.9,399.1,396.2,397.9,388.9,389.8,4654.5,null,"Orange",4654500,{"$f":"Q60/'Pie Chart'!$O$30","v":2803915.6626506024},{"$f":"R60/'Pie Chart'!$O$31","v":2336596.3855421687}]
["Owen",431.3,424.1,425.5,422.8,408.5,408.7,414.8,416.6,404.4,400,396.6,402.8,4956.1000000000004,null,"Owen",4956100,{"$f":"Q61/'Pie Chart'!$O$30","v":2985602.4096385543},{"$f":"R61/'Pie Chart'!$O$31","v":2488002.0080321287}]
["Parke",268.5,259.89999999999998,264.89999999999998,266.3,266.7,263.39999999999998,266.39999999999998,271.8,277.39999999999998,279.39999999999998,282.2,279.8,3246.7000000000003,null,"Parke",3246700.0000000005,{"$f":"Q62/'Pie Chart'!$O$30","v":1955843.3734939762},{"$f":"R62/'Pie Chart'!$O$31","v":1629869.4779116469}]
["Perry",249.5,240.5,240.1,242.5,242.5,240.4,235.9,239.5,245.3,255.7,244.4,244,2920.3,null,"Perry",2920300,{"$f":"Q63/'Pie Chart'!$O$30","v":1759216.8674698796},{"$f":"R63/'Pie Chart'!$O$31","v":1466014.0562248996}]
["Pike",164.7,155,157.9,159.6,157.6,159.5,160,165.2,165,168.5,168.9,171.8,1953.7000000000003,null,"Pike",1953700.0000000002,{"$f":"Q64/'Pie Chart'!$O$30","v":1176927.7108433738},{"$f":"R64/'Pie Chart'!$O$31","v":980773.0923694782}]
["Porter",2002.5,1951.8,1943.7,1914.2,1905.4,1883.2,1886.5,1940.4,1914,1928.2,1892.9,1936,23098.800000000003,null,"Porter",23098800.000000004,{"$f":"Q65/'Pie Chart'!$O$30","v":13914939.759036148},{"$f":"R65/'Pie Chart'!$O$31","v":11595783.132530123}]
["Posey",299.8,297.5,299.7,302.89999999999998,297.89999999999998,303.89999999999998,311.8,311.2,316.60000000000002,313.3,298.2,298,{"$f":"SUM(B66:M66)","v":3650.8},null,"Posey",3650800,{"$f":"Q66/'Pie Chart'!$O$30","v":2199277.1084337351},{"$f":"R66/'Pie Chart'!$O$31","v":1832730.9236947794}]
["Pulaski",219.3,218.5,209.7,210.3,208.6,200.8,199.2,207.3,205.2,205.2,200.7,202.9,2487.6999999999998,null,{"$f":"A67","v":"Pulaski"},{"$f":"N67*1000","v":2487700},{"$f":"Q67/'Pie Chart'!$O$30","v":1498614.4578313255},{"$f":"R67/'Pie Chart'!$O$31","v":1248845.3815261046}]
["Putnam",533.20000000000005,527.6,526.70000000000005,527.4,522.1,518.6,526,530.6,527.9,531.9,528.9,528.79999999999995,6329.6999999999989,null,"Putnam",6329699.9999999991,{"$f":"Q68/'Pie Chart'!$O$30","v":3813072.289156626},{"$f":"R68/'Pie Chart'!$O$31","v":3177560.2409638553}]
["Randolph",484.1,480.3,473.4,474,470.4,481.1,489.4,479.9,487.5,487.6,475.1,481.5,5764.3000000000011,null,"Randolph",5764300.0000000009,{"$f":"Q69/'Pie Chart'!$O$30","v":3472469.8795180731},{"$f":"R69/'Pie Chart'!$O$31","v":2893724.8995983945}]
["Ripley",390.8,403.9,401,406.3,394.6,399.7,392.9,392.9,394.7,397.9,391.6,394.3,4760.6000000000004,null,"Ripley",4760600,{"$f":"Q70/'Pie Chart'!$O$30","v":2867831.3253012048},{"$f":"R70/'Pie Chart'!$O$31","v":2389859.437751004}]
["Rush",275.7,273.5,268.60000000000002,267.5,268.60000000000002,264.2,260.60000000000002,264,265.39999999999998,265.89999999999998,260.7,257.10000000000002,3191.8,null,"Rush",3191800,{"$f":"Q71/'Pie Chart'!$O$30","v":1922771.0843373495},{"$f":"R71/'Pie Chart'!$O$31","v":1602309.2369477914}]
["Saint Joseph",5845.6,5821,5757.4,5695.2,5763.5,5767.4,5854.6,5950.3,5966.3,5976.1,5910.3,5992.4,70300.100000000006,null,"Saint Joseph",70300100,{"$f":"Q72/'Pie Chart'!$O$30","v":42349457.8313253},{"$f":"R72/'Pie Chart'!$O$31","v":35291214.859437749}]
["Scott",623.1,618,608.6,587.5,594.4,585.9,589.5,585.29999999999995,583.70000000000005,582.79999999999995,573.5,576.4,7108.7,null,"Scott",7108700,{"$f":"Q73/'Pie Chart'!$O$30","v":4282349.3975903615},{"$f":"R73/'Pie Chart'!$O$31","v":3568624.4979919679}]
["Shelby",725.2,723.9,721.9,719,712.6,703.3,699.5,707.9,710.6,722.6,715.2,713,8574.7000000000007,null,"Shelby",8574700,{"$f":"Q74/'Pie Chart'!$O$30","v":5165481.9277108433},{"$f":"R74/'Pie Chart'!$O$31","v":4304568.2730923695}]
["Spencer",217.9,217.9,231.6,214.6,213.4,210.8,211.7,212.3,214.7,213.7,222.1,219.7,2600.3999999999996,null,"Spencer",2600399.9999999995,{"$f":"Q75/'Pie Chart'!$O$30","v":1566506.0240963853},{"$f":"R75/'Pie Chart'!$O$31","v":1305421.6867469877}]
["Starke",553.9,562.70000000000005,536.1,522.79999999999995,524.5,530.1,520.29999999999995,543.5,543.29999999999995,546.9,554.29999999999995,550.20000000000005,6488.5999999999995,null,"Starke",6488599.9999999991,{"$f":"Q76/'Pie Chart'!$O$30","v":3908795.1807228914},{"$f":"R76/'Pie Chart'!$O$31","v":3257329.3172690761}]
["Steuben",494.1,493.7,492.8,484.1,476.6,464.9,460.7,460.6,454.5,456,445.5,449.1,5632.6,null,"Steuben",5632600,{"$f":"Q77/'Pie Chart'!$O$30","v":3393132.5301204822},{"$f":"R77/'Pie Chart'!$O$31","v":2827610.4417670686}]
["Sullivan",349.7,346.8,352.3,347.7,357.2,364.8,373.4,375.7,379.7,386.9,375.3,382.6,4392.1000000000004,null,"Sullivan",4392100,{"$f":"Q78/'Pie Chart'!$O$30","v":2645843.373493976},{"$f":"R78/'Pie Chart'!$O$31","v":2204869.4779116469}]
["Switzerland",192.2,190.4,197.7,193.6,196.8,193.2,191.7,205.2,197.3,205.7,197.7,199.1,2360.6,null,"Switzerland",2360600,{"$f":"Q79/'Pie Chart'!$O$30","v":1422048.1927710844},{"$f":"R79/'Pie Chart'!$O$31","v":1185040.1606425704}]
["Tippecanoe",2353.3000000000002,2331,2336.8000000000002,2341.9,2370.5,2373.5,2386.4,2391.3000000000002,2411.6,2435.6999999999998,2428.6999999999998,2443,28603.7,null,"Tippecanoe",28603700,{"$f":"Q80/'Pie Chart'!$O$30","v":17231144.578313254},{"$f":"R80/'Pie Chart'!$O$31","v":14359287.148594379}]
["Tipton",196.9,195.4,196.6,194.6,193.1,195.2,199,207.9,200.3,197.1,193.9,191.9,2361.9,null,"Tipton",2361900,{"$f":"Q81/'Pie Chart'!$O$30","v":1422831.3253012048},{"$f":"R81/'Pie Chart'!$O$31","v":1185692.7710843375}]
["Union",133.9,135.5,133.69999999999999,132.1,127.9,127.6,131.69999999999999,137.1,135.9,137,138.4,139.6,1610.3999999999999,null,"Union",1610399.9999999998,{"$f":"Q82/'Pie Chart'!$O$30","v":970120.4819277107},{"$f":"R82/'Pie Chart'!$O$31","v":808433.7349397589}]
["Vanderburgh",3489.2,3459.3,3434.3,3414,3438.7,3464.8,3502.5,3545,3535.6,3539.4,3484.9,3500.3,41808,null,"Vanderburgh",41808000,{"$f":"Q83/'Pie Chart'!$O$30","v":25185542.1686747},{"$f":"R83/'Pie Chart'!$O$31","v":20987951.807228919}]
["Vermillion",294.89999999999998,292.10000000000002,293.3,286.8,290.60000000000002,289.3,296.5,291.2,289,289.89999999999998,286.7,291.7,3491.9999999999995,null,"Vermillion",3491999.9999999995,{"$f":"Q84/'Pie Chart'!$O$30","v":2103614.457831325},{"$f":"R84/'Pie Chart'!$O$31","v":1753012.0481927709}]
["Vigo",2317.6,2310,2340,2323.3000000000002,2330.3000000000002,2316.4,2315.6,2345.5,2349,2358.1,2338.4,2347.1,27991.3,null,"Vigo",27991300,{"$f":"Q85/'Pie Chart'!$O$30","v":16862228.91566265},{"$f":"R85/'Pie Chart'!$O$31","v":14051857.429718876}]
["Wabash",486.5,490.8,504.7,502.3,493.4,492.7,489.3,502.1,504.2,510.5,499.6,493.2,5969.3,null,"Wabash",5969300,{"$f":"Q86/'Pie Chart'!$O$30","v":3595963.855421687},{"$f":"R86/'Pie Chart'!$O$31","v":2996636.5461847391}]
["Warren",89.1,91.4,87.7,90.6,86.8,90.4,91.5,97.9,92.4,91.9,93.2,93.2,1096.0999999999999,null,"Warren",1096100,{"$f":"Q87/'Pie Chart'!$O$30","v":660301.20481927716},{"$f":"R87/'Pie Chart'!$O$31","v":550251.00401606434}]
["Warrick",493.9,489.8,486.7,471.5,471.2,472.4,477.6,484.5,491.8,494,488.9,490,5812.2999999999993,null,"Warrick",5812299.9999999991,{"$f":"Q88/'Pie Chart'!$O$30","v":3501385.5421686745},{"$f":"R88/'Pie Chart'!$O$31","v":2917821.2851405623}]
["Washington",537.79999999999995,542.9,576.79999999999995,536.5,533.79999999999995,542,534.20000000000005,531.1,528.9,530.1,522,515.5,6431.6,null,"Washington",6431600,{"$f":"Q89/'Pie Chart'!$O$30","v":3874457.8313253014},{"$f":"R89/'Pie Chart'!$O$31","v":3228714.8594377511}]
["Wayne",1520.3,1525.4,1527.8,1517.8,1518.2,1508.6,1517.4,1527,1529.4,1534.9,1520.5,1526.2,18273.5,null,"Wayne",18273500,{"$f":"Q90/'Pie Chart'!$O$30","v":11008132.530120483},{"$f":"R90/'Pie Chart'!$O$31","v":9173443.7751004025}]
["Wells",283,278.3,270.5,275.5,274.5,280.10000000000002,276,277.60000000000002,274,278.5,277.8,274.89999999999998,3320.7000000000003,null,"Wells",3320700.0000000005,{"$f":"Q91/'Pie Chart'!$O$30","v":2000421.6867469882},{"$f":"R91/'Pie Chart'!$O$31","v":1667018.072289157}]
["White",328.8,328.8,322.2,323.39999999999998,320.89999999999998,318.8,314.2,321.2,323.7,326.89999999999998,315.2,312.8,3856.8999999999996,null,"White",3856899.9999999995,{"$f":"Q92/'Pie Chart'!$O$30","v":2323433.7349397587},{"$f":"R92/'Pie Chart'!$O$31","v":1936194.7791164657}]
["Whitley",352.7,351,346.8,336.8,344.2,340.9,332.2,336.4,325.2,328.1,321.39999999999998,323.8,{"$f":"SUM(B93:M93)","v":4039.5},null,"Whitley",4039500,{"$f":"Q93/'Pie Chart'!$O$30","v":2433433.7349397591},{"$f":"R93/'Pie Chart'!$O$31","v":2027861.4457831327}]
["All ",null,null,null,null,null,null,null,null,null,null,null,null,null,null,"All ",{"$f":"SUM(Q2:Q93)","v":1455697000},{"$f":"SUM(R2:R93)","v":876925903.61445785},{"$f":"SUM(S2:S93)","v":730771586.34538102}]

{"sheet":"WIC","index":2,"n_rows":95,"n_cols":4,"rows_kept":95,"cut":false,"hidden":true,"merged":[]}
["COUNTYNAME","WIC 2012 $","Pounds","Meals"]
["ADAMS",462707.11,{"$f":"B2/'Pie Chart'!$O$30","v":278739.22289156629},{"$f":"C2/'Pie Chart'!$O$31","v":232282.68574297192}]
["ALLEN",7243490.8600000003,{"$f":"B3/'Pie Chart'!$O$30","v":4363548.710843374},{"$f":"C3/'Pie Chart'!$O$31","v":3636290.5923694787}]
["BARTHOLOMEW",1453459.48,{"$f":"B4/'Pie Chart'!$O$30","v":875578},{"$f":"C4/'Pie Chart'!$O$31","v":729648.33333333337}]
["BENTON",108950.31,{"$f":"B5/'Pie Chart'!$O$30","v":65632.716867469877},{"$f":"C5/'Pie Chart'!$O$31","v":54693.930722891564}]
["BLACKFORD",274190.12,{"$f":"B6/'Pie Chart'!$O$30","v":165174.77108433735},{"$f":"C6/'Pie Chart'!$O$31","v":137645.64257028114}]
["BOONE",436876.33,{"$f":"B7/'Pie Chart'!$O$30","v":263178.51204819279},{"$f":"C7/'Pie Chart'!$O$31","v":219315.42670682733}]
["BROWN",72481.64,{"$f":"B8/'Pie Chart'!$O$30","v":43663.638554216872},{"$f":"C8/'Pie Chart'!$O$31","v":36386.365461847396}]
["CARROLL",156141.53,{"$f":"B9/'Pie Chart'!$O$30","v":94061.162650602419},{"$f":"C9/'Pie Chart'!$O$31","v":78384.302208835346}]
["CASS",1055280.73,{"$f":"B10/'Pie Chart'!$O$30","v":635711.28313253017},{"$f":"C10/'Pie Chart'!$O$31","v":529759.40261044179}]
["CLARK",1845400.28,{"$f":"B11/'Pie Chart'!$O$30","v":1111686.9156626507},{"$f":"C11/'Pie Chart'!$O$31","v":926405.76305220893}]
["CLAY",544494.99,{"$f":"B12/'Pie Chart'!$O$30","v":328009.03012048191},{"$f":"C12/'Pie Chart'!$O$31","v":273340.85843373492}]
["CLINTON",772655.67,{"$f":"B13/'Pie Chart'!$O$30","v":465455.22289156629},{"$f":"C13/'Pie Chart'!$O$31","v":387879.35240963858}]
["CRAWFORD",137876.1,{"$f":"B14/'Pie Chart'!$O$30","v":83057.891566265069},{"$f":"C14/'Pie Chart'!$O$31","v":69214.909638554222}]
["DARKE",70596.639999999999,{"$f":"B15/'Pie Chart'!$O$30","v":42528.096385542172},{"$f":"C15/'Pie Chart'!$O$31","v":35440.080321285146}]
["DAVIESS",568444.76,{"$f":"B16/'Pie Chart'!$O$30","v":342436.60240963858},{"$f":"C16/'Pie Chart'!$O$31","v":285363.83534136548}]
["DEARBORN",686268.05,{"$f":"B17/'Pie Chart'!$O$30","v":413414.48795180727},{"$f":"C17/'Pie Chart'!$O$31","v":344512.07329317275}]
["DECATUR",473948.13,{"$f":"B18/'Pie Chart'!$O$30","v":285510.92168674699},{"$f":"C18/'Pie Chart'!$O$31","v":237925.76807228918}]
["DEKALB",643061.04,{"$f":"B19/'Pie Chart'!$O$30","v":387386.16867469886},{"$f":"C19/'Pie Chart'!$O$31","v":322821.80722891574}]
["DELAWARE",1939297.43,{"$f":"B20/'Pie Chart'!$O$30","v":1168251.4638554216},{"$f":"C20/'Pie Chart'!$O$31","v":973542.88654618477}]
["DUBOIS",691095.99,{"$f":"B21/'Pie Chart'!$O$30","v":416322.88554216869},{"$f":"C21/'Pie Chart'!$O$31","v":346935.73795180727}]
["ELKHART",4778971.4400000004,{"$f":"B22/'Pie Chart'!$O$30","v":2878898.4578313255},{"$f":"C22/'Pie Chart'!$O$31","v":2399082.0481927712}]
["FAYETTE",489740.72,{"$f":"B23/'Pie Chart'!$O$30","v":295024.53012048191},{"$f":"C23/'Pie Chart'!$O$31","v":245853.7751004016}]
["FLOYD",1131167.6399999999,{"$f":"B24/'Pie Chart'!$O$30","v":681426.28915662644},{"$f":"C24/'Pie Chart'!$O$31","v":567855.24096385541}]
["FOUNTAIN",354079.33,{"$f":"B25/'Pie Chart'!$O$30","v":213300.80120481929},{"$f":"C25/'Pie Chart'!$O$31","v":177750.66767068274}]
["FRANKLIN",148386.68,{"$f":"B26/'Pie Chart'!$O$30","v":89389.566265060246},{"$f":"C26/'Pie Chart'!$O$31","v":74491.305220883543}]
["FULTON",410219.27,{"$f":"B27/'Pie Chart'!$O$30","v":247120.04216867473},{"$f":"C27/'Pie Chart'!$O$31","v":205933.36847389562}]
["GIBSON",436767.91,{"$f":"B28/'Pie Chart'!$O$30","v":263113.19879518071},{"$f":"C28/'Pie Chart'!$O$31","v":219260.99899598394}]
["GRANT",1591722.14,{"$f":"B29/'Pie Chart'!$O$30","v":958868.75903614459},{"$f":"C29/'Pie Chart'!$O$31","v":799057.29919678718}]
["GREENE",446416.9,{"$f":"B30/'Pie Chart'!$O$30","v":268925.84337349399},{"$f":"C30/'Pie Chart'!$O$31","v":224104.86947791168}]
["HAMILTON",1965815.47,{"$f":"B31/'Pie Chart'!$O$30","v":1184226.186746988},{"$f":"C31/'Pie Chart'!$O$31","v":986855.15562248998}]
["HANCOCK",530485.39,{"$f":"B32/'Pie Chart'!$O$30","v":319569.51204819279},{"$f":"C32/'Pie Chart'!$O$31","v":266307.92670682736}]
["HARRISON",531672.37,{"$f":"B33/'Pie Chart'!$O$30","v":320284.56024096388},{"$f":"C33/'Pie Chart'!$O$31","v":266903.80020080326}]
["HENDRICKS",1503373.21,{"$f":"B34/'Pie Chart'!$O$30","v":905646.51204819279},{"$f":"C34/'Pie Chart'!$O$31","v":754705.42670682736}]
["HENRY",729273.74,{"$f":"B35/'Pie Chart'!$O$30","v":439321.53012048197},{"$f":"C35/'Pie Chart'!$O$31","v":366101.27510040166}]
["HOWARD",1930672.21,{"$f":"B36/'Pie Chart'!$O$30","v":1163055.5481927712},{"$f":"C36/'Pie Chart'!$O$31","v":969212.95682730933}]
["HUNTINGTON",558657.11,{"$f":"B37/'Pie Chart'!$O$30","v":336540.42771084339},{"$f":"C37/'Pie Chart'!$O$31","v":280450.35642570286}]
["JACKSON",943830.35,{"$f":"B38/'Pie Chart'!$O$30","v":568572.5},{"$f":"C38/'Pie Chart'!$O$31","v":473810.41666666669}]
["JASPER",534153.63,{"$f":"B39/'Pie Chart'!$O$30","v":321779.2951807229},{"$f":"C39/'Pie Chart'!$O$31","v":268149.4126506024}]
["JAY",364964.83,{"$f":"B40/'Pie Chart'!$O$30","v":219858.33132530123},{"$f":"C40/'Pie Chart'!$O$31","v":183215.27610441769}]
["JEFFERSON",594812.54,{"$f":"B41/'Pie Chart'!$O$30","v":358320.80722891568},{"$f":"C41/'Pie Chart'!$O$31","v":298600.67269076308}]
["JENNINGS",566352.93999999994,{"$f":"B42/'Pie Chart'!$O$30","v":341176.46987951803},{"$f":"C42/'Pie Chart'!$O$31","v":284313.7248995984}]
["JOHNSON",1549187.2,{"$f":"B43/'Pie Chart'!$O$30","v":933245.30120481935},{"$f":"C43/'Pie Chart'!$O$31","v":777704.41767068277}]
["KNOX",626789.19999999995,{"$f":"B44/'Pie Chart'!$O$30","v":377583.85542168672},{"$f":"C44/'Pie Chart'!$O$31","v":314653.21285140561}]
["KOSCIUSKO",1122732.83,{"$f":"B45/'Pie Chart'!$O$30","v":676345.07831325312},{"$f":"C45/'Pie Chart'!$O$31","v":563620.89859437768}]
["LAGRANGE",155773.15,{"$f":"B46/'Pie Chart'!$O$30","v":93839.246987951803},{"$f":"C46/'Pie Chart'!$O$31","v":78199.372489959846}]
["LAKE",10086131.109999999,{"$f":"B47/'Pie Chart'!$O$30","v":6075982.5963855423},{"$f":"C47/'Pie Chart'!$O$31","v":5063318.8303212859}]
["LAPORTE",2161242.7599999998,{"$f":"B48/'Pie Chart'!$O$30","v":1301953.469879518},{"$f":"C48/'Pie Chart'!$O$31","v":1084961.2248995984}]
["LAWRENCE",752832.83,{"$f":"B49/'Pie Chart'!$O$30","v":453513.7530120482},{"$f":"C49/'Pie Chart'!$O$31","v":377928.12751004018}]
["MADISON",2294416.64,{"$f":"B50/'Pie Chart'!$O$30","v":1382178.6987951808},{"$f":"C50/'Pie Chart'!$O$31","v":1151815.5823293175}]
["MARION",21687110.109999999,{"$f":"B51/'Pie Chart'!$O$30","v":13064524.162650602},{"$f":"C51/'Pie Chart'!$O$31","v":10887103.468875501}]
["MARSHALL",909663.01,{"$f":"B52/'Pie Chart'!$O$30","v":547989.76506024098},{"$f":"C52/'Pie Chart'!$O$31","v":456658.13755020086}]
["MARTIN",146248.03,{"$f":"B53/'Pie Chart'!$O$30","v":88101.222891566271},{"$f":"C53/'Pie Chart'!$O$31","v":73417.685742971895}]
["MIAMI",520743.5,{"$f":"B54/'Pie Chart'!$O$30","v":313700.90361445787},{"$f":"C54/'Pie Chart'!$O$31","v":261417.41967871491}]
["MONROE",1566288.26,{"$f":"B55/'Pie Chart'!$O$30","v":943547.14457831334},{"$f":"C55/'Pie Chart'!$O$31","v":786289.28714859451}]
["MONTGOMERY",696746.85,{"$f":"B56/'Pie Chart'!$O$30","v":419727.01807228918},{"$f":"C56/'Pie Chart'!$O$31","v":349772.51506024098}]
["MORGAN",1048816.42,{"$f":"B57/'Pie Chart'!$O$30","v":631817.12048192765},{"$f":"C57/'Pie Chart'!$O$31","v":526514.26706827304}]
["NEWTON",74386.34,{"$f":"B58/'Pie Chart'!$O$30","v":44811.048192771086},{"$f":"C58/'Pie Chart'!$O$31","v":37342.540160642573}]
["NOBLE",727299.45,{"$f":"B59/'Pie Chart'!$O$30","v":438132.19879518071},{"$f":"C59/'Pie Chart'!$O$31","v":365110.1656626506}]
["OHIO",64325.61,{"$f":"B60/'Pie Chart'!$O$30","v":38750.367469879522},{"$f":"C60/'Pie Chart'!$O$31","v":32291.972891566271}]
["ORANGE",377228.42,{"$f":"B61/'Pie Chart'!$O$30","v":227246.03614457831},{"$f":"C61/'Pie Chart'!$O$31","v":189371.6967871486}]
["OWEN",238746.22,{"$f":"B62/'Pie Chart'!$O$30","v":143823.02409638555},{"$f":"C62/'Pie Chart'!$O$31","v":119852.52008032129}]
["PARKE",160963.67000000001,{"$f":"B63/'Pie Chart'!$O$30","v":96966.066265060246},{"$f":"C63/'Pie Chart'!$O$31","v":80805.055220883543}]
["PERRY",272539.58,{"$f":"B64/'Pie Chart'!$O$30","v":164180.46987951809},{"$f":"C64/'Pie Chart'!$O$31","v":136817.05823293174}]
["PIKE",112347.07,{"$f":"B65/'Pie Chart'!$O$30","v":67678.957831325315},{"$f":"C65/'Pie Chart'!$O$31","v":56399.131526104429}]
["PORTER",1905737.93,{"$f":"B66/'Pie Chart'!$O$30","v":1148034.8975903615},{"$f":"C66/'Pie Chart'!$O$31","v":956695.74799196795}]
["POSEY",165267.54999999999,{"$f":"B67/'Pie Chart'!$O$30","v":99558.765060240956},{"$f":"C67/'Pie Chart'!$O$31","v":82965.637550200801}]
["PULASKI",141800.54,{"$f":"B68/'Pie Chart'!$O$30","v":85422.012048192773},{"$f":"C68/'Pie Chart'!$O$31","v":71185.010040160647}]
["PUTNAM",494313.3,{"$f":"B69/'Pie Chart'!$O$30","v":297779.09638554219},{"$f":"C69/'Pie Chart'!$O$31","v":248149.24698795183}]
["RANDOLPH",326358.63,{"$f":"B70/'Pie Chart'!$O$30","v":196601.5843373494},{"$f":"C70/'Pie Chart'!$O$31","v":163834.65361445784}]
["RIPLEY",549296.65,{"$f":"B71/'Pie Chart'!$O$30","v":330901.59638554219},{"$f":"C71/'Pie Chart'!$O$31","v":275751.33032128518}]
["RUSH",195567.01,{"$f":"B72/'Pie Chart'!$O$30","v":117811.45180722892},{"$f":"C72/'Pie Chart'!$O$31","v":98176.209839357442}]
["SCOTT",598920.03,{"$f":"B73/'Pie Chart'!$O$30","v":360795.19879518077},{"$f":"C73/'Pie Chart'!$O$31","v":300662.66566265066}]
["SHELBY",683078.26,{"$f":"B74/'Pie Chart'!$O$30","v":411492.92771084339},{"$f":"C74/'Pie Chart'!$O$31","v":342910.77309236949}]
["SPENCER",224193.04,{"$f":"B75/'Pie Chart'!$O$30","v":135056.04819277109},{"$f":"C75/'Pie Chart'!$O$31","v":112546.70682730924}]
["SAINT JOSEPH",4740964.21,{"$f":"B76/'Pie Chart'!$O$30","v":2856002.5361445784},{"$f":"C76/'Pie Chart'!$O$31","v":2380002.1134538152}]
["STARKE",397358.15,{"$f":"B77/'Pie Chart'!$O$30","v":239372.37951807232},{"$f":"C77/'Pie Chart'!$O$31","v":199476.98293172693}]
["STEUBEN",675642.86,{"$f":"B78/'Pie Chart'!$O$30","v":407013.77108433738},{"$f":"C78/'Pie Chart'!$O$31","v":339178.14257028117}]
["SULLIVAN",255734.1,{"$f":"B79/'Pie Chart'!$O$30","v":154056.68674698795},{"$f":"C79/'Pie Chart'!$O$31","v":128380.57228915663}]
["SWITZERLAND",31898.01,{"$f":"B80/'Pie Chart'!$O$30","v":19215.668674698794},{"$f":"C80/'Pie Chart'!$O$31","v":16013.057228915663}]
["TIPPECANOE",2933734.84,{"$f":"B81/'Pie Chart'!$O$30","v":1767310.1445783132},{"$f":"C81/'Pie Chart'!$O$31","v":1472758.4538152611}]
["TIPTON",139171.32999999999,{"$f":"B82/'Pie Chart'!$O$30","v":83838.150602409631},{"$f":"C82/'Pie Chart'!$O$31","v":69865.125502008028}]
["UNION",81061.89,{"$f":"B83/'Pie Chart'!$O$30","v":48832.463855421687},{"$f":"C83/'Pie Chart'!$O$31","v":40693.719879518074}]
["VANDERBURGH",2668172.33,{"$f":"B84/'Pie Chart'!$O$30","v":1607332.7289156627},{"$f":"C84/'Pie Chart'!$O$31","v":1339443.9407630523}]
["VERMILLION",297690.84000000003,{"$f":"B85/'Pie Chart'!$O$30","v":179331.83132530123},{"$f":"C85/'Pie Chart'!$O$31","v":149443.19277108437}]
["VIGO",1977613.1,{"$f":"B86/'Pie Chart'!$O$30","v":1191333.1927710844},{"$f":"C86/'Pie Chart'!$O$31","v":992777.66064257035}]
["WABASH",596400.47,{"$f":"B87/'Pie Chart'!$O$30","v":359277.39156626508},{"$f":"C87/'Pie Chart'!$O$31","v":299397.82630522089}]
["WARREN",50875.94,{"$f":"B88/'Pie Chart'!$O$30","v":30648.156626506028},{"$f":"C88/'Pie Chart'!$O$31","v":25540.130522088359}]
["WARRICK",626588.15,{"$f":"B89/'Pie Chart'!$O$30","v":377462.74096385547},{"$f":"C89/'Pie Chart'!$O$31","v":314552.28413654625}]
["WASHINGTON",346054.23,{"$f":"B90/'Pie Chart'!$O$30","v":208466.40361445784},{"$f":"C90/'Pie Chart'!$O$31","v":173722.0030120482}]
["WAYNE",1351511.44,{"$f":"B91/'Pie Chart'!$O$30","v":814163.51807228918},{"$f":"C91/'Pie Chart'!$O$31","v":678469.59839357436}]
["WELLS",376023.8,{"$f":"B92/'Pie Chart'!$O$30","v":226520.36144578314},{"$f":"C92/'Pie Chart'!$O$31","v":188766.96787148595}]
["WHITE",472341.06,{"$f":"B93/'Pie Chart'!$O$30","v":284542.80722891568},{"$f":"C93/'Pie Chart'!$O$31","v":237119.00602409642}]
["WHITLEY",413337.87,{"$f":"B94/'Pie Chart'!$O$30","v":248998.71686746989},{"$f":"C94/'Pie Chart'!$O$31","v":207498.93072289159}]
["All ",111247518.83000006,{"$f":"B95/'Pie Chart'!$O$30","v":67016577.608433776},{"$f":"C95/'Pie Chart'!$O$31","v":55847148.007028148}]

{"sheet":"School Meals","index":3,"n_rows":94,"n_cols":6,"rows_kept":94,"cut":false,"hidden":true,"merged":[]}
["CountyName","Sum of FreeBreakfasts","Sum of ReduLunches","Sum of FreeLunches","Sum of ReducedBreakfasts","Total Meals"]
["Adams",91895,64175,223900,14390,394360]
["Allen",1884833,720294,3985248,168509,6758884]
["Bartholomew",286112,125414,585378,46174,1043078]
["Benton",44094,25964,110643,6039,186740]
["Blackford",59838,24531,127291,4433,216093]
["Boone",138259,79187,294277,23370,535093]
["Brown",65678,39458,124199,17034,246369]
["Carroll",61644,44708,141440,11852,259644]
["Cass",152603,89649,444456,18427,705135]
["Clark",576009,232811,1066089,87891,1962800]
["Clay",140637,71022,267427,23141,502227]
["Clinton",164699,79965,436344,16261,697269]
["Crawford",79761,25193,116779,14880,236613]
["Daviess",116935,51267,271710,13217,453129]
["Dearborn",180671,75800,374018,19121,649610]
["Decatur",128237,65213,258724,18340,470514]
["DeKalb",160205,111000,384256,32090,687551]
["Delaware",572024,173694,1120595,46375,1912688]
["Dubois",133725,86815,266122,28779,515441]
["Elkhart",1267516,529494,2631500,129847,4558357]
["Fayette",159240,42280,321304,11532,534356]
["Floyd",279347,102184,669203,20668,1071402]
["Fountain",84202,35610,171745,10834,302391]
["Franklin",47300,33309,134871,6308,221788]
["Fulton",57971,33286,156204,7661,255122]
["Gibson",87205,64625,219389,13762,384981]
["Grant",338252,122345,772821,27133,1260551]
["Greene",135718,70047,291074,21392,518231]
["Hamilton",287884,332663,1001916,47143,1669606]
["Hancock",82440,106009,384210,14716,587375]
["Harrison",137013,81760,305699,24188,548660]
["Hendricks",259923,243045,744701,47785,1295454]
["Henry",254986,97289,514161,27825,894261]
["Howard",329844,139046,831509,26189,1326588]
["Huntington",143706,78198,305657,18350,545911]
["Jackson",204056,92210,430334,23642,750242]
["Jasper",116293,61526,243009,20910,441738]
["Jay",93836,59451,226525,10766,390578]
["Jefferson",131135,56337,282240,17807,487519]
["Jennings",217869,82952,354276,38978,694075]
["Johnson",435275,310485,1062897,74721,1883378]
["Knox",204252,57755,366626,19596,648229]
["Kosciusko",368426,214714,832899,56308,1472347]
["LaGrange",134575,160104,321150,25452,641281]
["Lake",3552027,784603,6465689,276263,11078582]
["LaPorte",548881,177809,1124689,65536,1916915]
["Lawrence",182485,93640,398908,28515,703548]
["Madison",641456,211651,1363378,49025,2265510]
["Marion",8513124,1758538,13410817,889328,24571807]
["Marshall",185703,120497,487949,22810,816959]
["Martin",35324,19954,78711,6210,140199]
["Miami",192082,91076,413593,27307,724058]
["Monroe",278273,118479,613480,30189,1040421]
["Montgomery",190173,71276,358197,24683,644329]
["Morgan",259323,141894,564195,45494,1010906]
["Newton",65920,28034,143130,8105,245189]
["Noble",143884,132758,514247,20105,810994]
["Ohio",13620,10529,37471,2776,64396]
["Orange",119867,48197,215121,20648,403833]
["Owen",77477,32349,160268,10134,280228]
["Parke",88989,27776,152883,11111,280759]
["Perry",84992,34580,162479,10612,292663]
["Pike",38798,19882,84517,7800,150997]
["Porter",479563,281544,1090151,92027,1943285]
["Posey",65323,34071,146416,6638,252448]
["Pulaski",45713,32380,122934,8309,209336]
["Putnam",185555,85938,355314,30533,657340]
["Randolph",131598,65497,293287,17006,507388]
["Ripley",124725,69620,245667,22542,462554]
["Rush",63839,36819,162222,8496,271376]
["Saint Joseph",1445292,578303,3081399,164760,5269754]
["Scott",131254,45654,287369,16173,480450]
["Shelby",182961,97030,393582,25079,698652]
["Spencer",69482,35896,151405,10555,267338]
["Starke",182367,55953,276857,29521,544698]
["Steuben",98055,67112,247813,18149,431129]
["Sullivan",96056,45346,184768,14542,340712]
["Switzerland",54708,18242,92419,8429,173798]
["Tippecanoe",445144,187959,1170484,33366,1836953]
["Tipton",37738,32166,111496,5667,187067]
["Union",37124,23730,80218,7367,148439]
["Vanderburgh",761328,340818,1781897,72688,2956731]
["Vermillion",89772,38956,159872,18070,306670]
["Vigo",653367,168397,1135357,61292,2018413]
["Wabash",162528,81139,337121,17238,598026]
["Warren",27253,16218,55029,5376,103876]
["Warrick",143925,109474,333525,26318,613242]
["Washington",118564,56074,271225,17541,463404]
["Wayne",422761,129292,816807,34938,1403798]
["Wells",38324,53459,194093,2534,288410]
["White",105284,81255,280871,20591,488001]
["Whitley",67414,58579,164216,17943,308152]
["All ",{"$f":"SUM(B2:B93)","v":32575538},{"$f":"SUM(C2:C93)","v":12243327},64948352,3724175,113491392]

{"sheet":"Summer Meals","index":4,"n_rows":95,"n_cols":5,"rows_kept":95,"cut":false,"hidden":true,"merged":[]}
[]
["CountyNme","Sum of Breakfast","Sum of Lunch","Sum of SUPPER","Total Meals"]
["Adams",7849,17232,609,{"$f":"SUM(B3:D3)","v":25690}]
["Allen",33736,105373,24884,{"$f":"SUM(B4:D4)","v":163993}]
["Bartholomew",13580,26859,0,40439]
["Benton"]
["Blackford",2817,0,0,2817]
["Boone",2781,2961,0,5742]
["Brown",2374,1899,2376,6649]
["Carroll",0,805,0,805]
["Cass",574,774,0,1348]
["Clark",7468,20893,0,28361]
["Clay",2178,3448,97,5723]
["Clinton",5746,5570,0,11316]
["Crawford",3899,6137,0,10036]
["Daviess",0,4020,0,4020]
["Dearborn",0,892,0,892]
["Decatur",2848,7140,1154,11142]
["DeKalb",6734,25930,0,32664]
["Delaware",7990,20575,0,28565]
["Dubois",0,1781,0,1781]
["Elkhart",28790,73664,0,102454]
["Fayette",4769,18200,0,22969]
["Floyd",5,17372,0,17377]
["Fountain",0,1678,0,1678]
["Franklin"]
["Fulton",2195,3490,0,5685]
["Gibson",3253,12244,0,15497]
["Grant",6647,20388,1620,28655]
["Greene",0,4981,0,4981]
["Hamilton",426,355,426,1207]
["Hancock"]
["Harrison"]
["Hendricks"]
["Henry",638,3390,0,4028]
["Howard",318,11848,0,12166]
["Huntington",7480,17422,1253,26155]
["Jackson",1827,8073,0,9900]
["Jasper"]
["Jay",0,8577,0,8577]
["Jefferson"]
["Jennings"]
["Johnson",4071,30106,0,34177]
["Knox",1669,1258,587,3514]
["Kosciusko",14154,44298,0,58452]
["LaGrange",1812,8061,0,9873]
["Lake",133433,253721,2208,389362]
["LaPorte",19133,37437,0,56570]
["Lawrence",3974,13753,1941,19668]
["Madison",2993,10813,0,13806]
["Marion",210732,535317,6418,752467]
["Marshall",7670,22964,0,30634]
["Martin"]
["Miami",2750,12171,0,14921]
["Monroe",14850,10524,4062,29436]
["Montgomery",0,2880,0,2880]
["Morgan",1808,19217,0,21025]
["Newton",2439,2988,0,5427]
["Noble",2695,11109,125,13929]
["Ohio"]
["Orange",3797,5045,0,8842]
["Owen",589,3613,0,4202]
["Parke",7705,8595,7644,23944]
["Perry",649,4155,0,4804]
["Pike"]
["Porter",8573,17586,0,26159]
["Posey",0,1100,0,1100]
["Pulaski",0,349,0,349]
["Putnam",5717,7848,0,13565]
["Randolph",0,9020,0,9020]
["Ripley"]
["Rush",8780,28430,1592,38802]
["Saint Joseph",61536,126646,4398,192580]
["Scott",1945,2353,648,4946]
["Shelby",2402,24272,0,26674]
["Spencer"]
["Starke",4226,6069,0,10295]
["Steuben",7224,9249,0,16473]
["Sullivan",0,1999,0,1999]
["Switzerland"]
["Tippecanoe",10841,38437,2542,51820]
["Tipton"]
["Union"]
["Vanderburgh",1545,41629,0,{"$f":"SUM(B84:D84)","v":43174}]
["Vermillion",0,4960,0,4960]
["Vigo",14906,19853,2139,36898]
["Wabash",7900,26484,416,34800]
["Warren"]
["Warrick",2019,8740,162,10921]
["Washington"]
["Wayne",13497,35058,349,48904]
["Wells",0,2447,0,2447]
["White",0,3376,0,3376]
["Whitley",0,5597,0,5597]
["All ",{"$f":"SUM(B3:B94)","v":744956},{"$f":"SUM(C3:C94)","v":1913498},67650,2726104]

{"sheet":"Feeding America Food Bank","index":5,"n_rows":94,"n_cols":9,"rows_kept":94,"cut":false,"hidden":true,"merged":[]}
["Food Bank  ","County","Total Pounds","Federal Pounds","Non Federal Pounds","TEFAP","CSFP","Federal Meals","Non-Federal Meals"]
["Community Harvest Food Bank of Northeast Indiana","ADAMS",413125,{"$f":"F2+G2","v":58050},{"$f":"C2-D2","v":355075},58050,null,{"$f":"D2/'Pie Chart'!$O$31","v":48375},{"$f":"E2/'Pie Chart'!$O$31","v":295895.83333333337}]
["Community Harvest Food Bank of Northeast Indiana","ALLEN",6322407,{"$f":"F3+G3","v":602948},5719459,602948,null,{"$f":"D3/'Pie Chart'!$O$31","v":502456.66666666669},{"$f":"E3/'Pie Chart'!$O$31","v":4766215.833333334}]
["Gleaners Food Bank","BARTHOLOMEW",406772,143398,263374,140658,2740,{"$f":"D4/'Pie Chart'!$O$31","v":119498.33333333334},{"$f":"E4/'Pie Chart'!$O$31","v":219478.33333333334}]
["Food Finders","BENTON",74755,13393,61362,13393,null,{"$f":"D5/'Pie Chart'!$O$31","v":11160.833333333334},{"$f":"E5/'Pie Chart'!$O$31","v":51135}]
["SH FB of East Central","BLACKFORD",386135,71272,314863,30176,41096,{"$f":"D6/'Pie Chart'!$O$31","v":59393.333333333336},{"$f":"E6/'Pie Chart'!$O$31","v":262385.83333333337}]
["Gleaners Food Bank","BOONE",348086,83025,265061,83025,null,{"$f":"D7/'Pie Chart'!$O$31","v":69187.5},{"$f":"E7/'Pie Chart'!$O$31","v":220884.16666666669}]
["Hoosier Hills Food Bank","BROWN",174133,27430,146703,27430,null,{"$f":"D8/'Pie Chart'!$O$31","v":22858.333333333336},{"$f":"E8/'Pie Chart'!$O$31","v":122252.5}]
["Food Finders","CARROLL",162740,29254,133486,29254,null,{"$f":"D9/'Pie Chart'!$O$31","v":24378.333333333336},{"$f":"E9/'Pie Chart'!$O$31","v":111238.33333333334}]
["Food Finders","CASS",394615,74873,319742,74873,null,{"$f":"D10/'Pie Chart'!$O$31","v":62394.166666666672},{"$f":"E10/'Pie Chart'!$O$31","v":266451.66666666669}]
["Dare To Care ( Louisville)","CLARK",1365610,214777,1150833,214777,null,{"$f":"D11/'Pie Chart'!$O$31","v":178980.83333333334},{"$f":"E11/'Pie Chart'!$O$31","v":959027.5}]
["Catholic Charities","CLAY",248200,58181,190019,58181,null,{"$f":"D12/'Pie Chart'!$O$31","v":48484.166666666672},{"$f":"E12/'Pie Chart'!$O$31","v":158349.16666666669}]
["Food Finders","CLINTON",227653,56591,171062,56591,null,{"$f":"D13/'Pie Chart'!$O$31","v":47159.166666666672},{"$f":"E13/'Pie Chart'!$O$31","v":142551.66666666669}]
["Dare To Care ( Louisville)","CRAWFORD",332586,134753,197833,30406,104347,{"$f":"D14/'Pie Chart'!$O$31","v":112294.16666666667},{"$f":"E14/'Pie Chart'!$O$31","v":164860.83333333334}]
["Tri State Food Bank","DAVIESS",344770,93617,251153,86792,6825,{"$f":"D15/'Pie Chart'!$O$31","v":78014.166666666672},{"$f":"E15/'Pie Chart'!$O$31","v":209294.16666666669}]
["Community Harvest Food Bank of Northeast Indiana","DE KALB",746149,56211,689938,56211,null,{"$f":"D16/'Pie Chart'!$O$31","v":46842.5},{"$f":"E16/'Pie Chart'!$O$31","v":574948.33333333337}]
["Freestore Food Bank","DEARBORN",488499,62926,425573,62926,null,{"$f":"D17/'Pie Chart'!$O$31","v":52438.333333333336},{"$f":"E17/'Pie Chart'!$O$31","v":354644.16666666669}]
["Gleaners Food Bank","DECATUR",246914,71066,175848,71066,null,{"$f":"D18/'Pie Chart'!$O$31","v":59221.666666666672},{"$f":"E18/'Pie Chart'!$O$31","v":146540}]
["SH FB of East Central","DELAWARE",1980009,328511,1651498,328511,null,{"$f":"D19/'Pie Chart'!$O$31","v":273759.16666666669},{"$f":"E19/'Pie Chart'!$O$31","v":1376248.3333333335}]
["Tri State Food Bank","DUBOIS",183685,77936,105749,77936,null,{"$f":"D20/'Pie Chart'!$O$31","v":64946.666666666672},{"$f":"E20/'Pie Chart'!$O$31","v":88124.166666666672}]
["Food Bank Of Northern Indiana","ELKHART",1035392,434245,601147,434245,null,{"$f":"D21/'Pie Chart'!$O$31","v":361870.83333333337},{"$f":"E21/'Pie Chart'!$O$31","v":500955.83333333337}]
["Gleaners Food Bank","FAYETTE",222562,72877,149685,72877,null,{"$f":"D22/'Pie Chart'!$O$31","v":60730.833333333336},{"$f":"E22/'Pie Chart'!$O$31","v":124737.5}]
["Dare To Care ( Louisville)","FLOYD",719686,{"$f":"F23+G23","v":147057},572629,147057,null,{"$f":"D23/'Pie Chart'!$O$31","v":122547.5},{"$f":"E23/'Pie Chart'!$O$31","v":477190.83333333337}]
["Food Finders","FOUNTAIN",202911,31196,171715,31196,null,{"$f":"D24/'Pie Chart'!$O$31","v":25996.666666666668},{"$f":"E24/'Pie Chart'!$O$31","v":143095.83333333334}]
["Gleaners Food Bank","FRANKLIN",138342,52351,85991,48779,3572,{"$f":"D25/'Pie Chart'!$O$31","v":43625.833333333336},{"$f":"E25/'Pie Chart'!$O$31","v":71659.166666666672}]
["Food Finders","FULTON",137601,35709,101892,35709,null,{"$f":"D26/'Pie Chart'!$O$31","v":29757.5},{"$f":"E26/'Pie Chart'!$O$31","v":84910}]
["Tri State Food Bank","GIBSON",246126,84730,161396,84730,null,{"$f":"D27/'Pie Chart'!$O$31","v":70608.333333333343},{"$f":"E27/'Pie Chart'!$O$31","v":134496.66666666669}]
["SH FB of East Central","GRANT",2518850,291011,2227839,291011,null,{"$f":"D28/'Pie Chart'!$O$31","v":242509.16666666669},{"$f":"E28/'Pie Chart'!$O$31","v":1856532.5}]
["Catholic Charities","GREENE",326774,70323,256451,70323,null,{"$f":"D29/'Pie Chart'!$O$31","v":58602.5},{"$f":"E29/'Pie Chart'!$O$31","v":213709.16666666669}]
["Gleaners Food Bank","HAMILTON",967763,315617,652146,315617,null,{"$f":"D30/'Pie Chart'!$O$31","v":263014.16666666669},{"$f":"E30/'Pie Chart'!$O$31","v":543455}]
["Gleaners Food Bank","HANCOCK",307142,97346,209796,97101,245,{"$f":"D31/'Pie Chart'!$O$31","v":81121.666666666672},{"$f":"E31/'Pie Chart'!$O$31","v":174830}]
["Dare To Care ( Louisville)","HARRISON",674007,65571,608436,65571,null,{"$f":"D32/'Pie Chart'!$O$31","v":54642.5},{"$f":"E32/'Pie Chart'!$O$31","v":507030}]
["Gleaners Food Bank","HENDRICKS",531070,152059,379011,152059,null,{"$f":"D33/'Pie Chart'!$O$31","v":126715.83333333334},{"$f":"E33/'Pie Chart'!$O$31","v":315842.5}]
["SH FB of East Central","HENRY",1819740,172216,{"$f":"C34-D34","v":1647524},172216,null,{"$f":"D34/'Pie Chart'!$O$31","v":143513.33333333334},{"$f":"E34/'Pie Chart'!$O$31","v":1372936.6666666667}]
["Food Finders","HOWARD",619661,177979,441682,177979,null,{"$f":"D35/'Pie Chart'!$O$31","v":148315.83333333334},{"$f":"E35/'Pie Chart'!$O$31","v":368068.33333333337}]
["Community Harvest Food Bank of Northeast Indiana","HUNTINGTON",415070,46918,368152,46918,null,{"$f":"D36/'Pie Chart'!$O$31","v":39098.333333333336},{"$f":"E36/'Pie Chart'!$O$31","v":306793.33333333337}]
["Gleaners Food Bank","JACKSON",293390,99712,193678,95184,4528,{"$f":"D37/'Pie Chart'!$O$31","v":83093.333333333343},{"$f":"E37/'Pie Chart'!$O$31","v":161398.33333333334}]
["Food Finders","JASPER",153713,33804,119909,33804,null,{"$f":"D38/'Pie Chart'!$O$31","v":28170},{"$f":"E38/'Pie Chart'!$O$31","v":99924.166666666672}]
["SH FB of East Central","JAY",489843,55338,434505,55338,null,{"$f":"D39/'Pie Chart'!$O$31","v":46115},{"$f":"E39/'Pie Chart'!$O$31","v":362087.5}]
["Gleaners Food Bank","JEFFERSON",364020,73835,290185,73835,null,{"$f":"D40/'Pie Chart'!$O$31","v":61529.166666666672},{"$f":"E40/'Pie Chart'!$O$31","v":241820.83333333334}]
["Gleaners Food Bank","JENNINGS",352943,80421,272522,80421,null,{"$f":"D41/'Pie Chart'!$O$31","v":67017.5},{"$f":"E41/'Pie Chart'!$O$31","v":227101.66666666669}]
["Gleaners Food Bank","JOHNSON",875256,292272,582984,292272,null,{"$f":"D42/'Pie Chart'!$O$31","v":243560},{"$f":"E42/'Pie Chart'!$O$31","v":485820}]
["Catholic Charities","KNOX",236005,180335,55670,77115,103220,{"$f":"D43/'Pie Chart'!$O$31","v":150279.16666666669},{"$f":"E43/'Pie Chart'!$O$31","v":46391.666666666672}]
["Food Bank Of Northern Indiana","KOSCIUSKO",446910,102787,344123,102787,null,{"$f":"D44/'Pie Chart'!$O$31","v":85655.833333333343},{"$f":"E44/'Pie Chart'!$O$31","v":286769.16666666669}]
["Food Bank Of Northern Indiana","LA PORTE",647300,182189,465111,182189,null,{"$f":"D45/'Pie Chart'!$O$31","v":151824.16666666669},{"$f":"E45/'Pie Chart'!$O$31","v":387592.5}]
["Community Harvest Food Bank of Northeast Indiana","LAGRANGE",517008,191470,325538,191470,null,{"$f":"D46/'Pie Chart'!$O$31","v":159558.33333333334},{"$f":"E46/'Pie Chart'!$O$31","v":271281.66666666669}]
["Foodbank of Northwest Indiana","LAKE",4231192,1101350,3129842,1101350,null,{"$f":"D47/'Pie Chart'!$O$31","v":917791.66666666674},{"$f":"E47/'Pie Chart'!$O$31","v":2608201.666666667}]
["Hoosier Hills Food Bank","LAWRENCE",539368,104697,434671,104697,null,{"$f":"D48/'Pie Chart'!$O$31","v":87247.5},{"$f":"E48/'Pie Chart'!$O$31","v":362225.83333333337}]
["SH FB of East Central","MADISON",2298354,390160,1908194,390160,null,{"$f":"D49/'Pie Chart'!$O$31","v":325133.33333333337},{"$f":"E49/'Pie Chart'!$O$31","v":1590161.6666666667}]
["Gleaners Food Bank","MARION",14517627,3548935,10968692,2789376,759559,{"$f":"D50/'Pie Chart'!$O$31","v":2957445.8333333335},{"$f":"E50/'Pie Chart'!$O$31","v":9140576.6666666679}]
["Food Bank Of Northern Indiana","MARSHALL",398130,81973,316157,81973,null,{"$f":"D51/'Pie Chart'!$O$31","v":68310.833333333343},{"$f":"E51/'Pie Chart'!$O$31","v":263464.16666666669}]
["Hoosier Hills Food Bank","MARTIN",71004,53070,17934,18182,34888,{"$f":"D52/'Pie Chart'!$O$31","v":44225},{"$f":"E52/'Pie Chart'!$O$31","v":14945}]
["Food Finders","MIAMI",284197,77979,206218,77979,null,{"$f":"D53/'Pie Chart'!$O$31","v":64982.5},{"$f":"E53/'Pie Chart'!$O$31","v":171848.33333333334}]
["Hoosier Hills Food Bank","MONROE",1591171,306380,1284791,306380,null,{"$f":"D54/'Pie Chart'!$O$31","v":255316.66666666669},{"$f":"E54/'Pie Chart'!$O$31","v":1070659.1666666667}]
["Food Finders","MONTGOMERY",315400,66692,248708,66692,null,{"$f":"D55/'Pie Chart'!$O$31","v":55576.666666666672},{"$f":"E55/'Pie Chart'!$O$31","v":207256.66666666669}]
["Gleaners Food Bank","MORGAN",298642,133183,165459,133183,null,{"$f":"D56/'Pie Chart'!$O$31","v":110985.83333333334},{"$f":"E56/'Pie Chart'!$O$31","v":137882.5}]
["Food Finders","NEWTON",158453,22505,135948,22505,null,{"$f":"D57/'Pie Chart'!$O$31","v":18754.166666666668},{"$f":"E57/'Pie Chart'!$O$31","v":113290}]
["Community Harvest Food Bank of Northeast Indiana","NOBLE",1055801,81695,974106,81695,null,{"$f":"D58/'Pie Chart'!$O$31","v":68079.166666666672},{"$f":"E58/'Pie Chart'!$O$31","v":811755}]
["Freestore Food Bank","OHIO",31994,11405,20589,11405,null,{"$f":"D59/'Pie Chart'!$O$31","v":9504.1666666666679},{"$f":"E59/'Pie Chart'!$O$31","v":17157.5}]
["Hoosier Hills Food Bank","ORANGE",210752,172725,38027,45585,127140,{"$f":"D60/'Pie Chart'!$O$31","v":143937.5},{"$f":"E60/'Pie Chart'!$O$31","v":31689.166666666668}]
["Hoosier Hills Food Bank","OWEN",455409,45806,409603,45806,null,{"$f":"D61/'Pie Chart'!$O$31","v":38171.666666666672},{"$f":"E61/'Pie Chart'!$O$31","v":341335.83333333337}]
["Catholic Charities","PARKE",207703,35310,172393,35310,null,{"$f":"D62/'Pie Chart'!$O$31","v":29425},{"$f":"E62/'Pie Chart'!$O$31","v":143660.83333333334}]
["Tri State Food Bank","PERRY",189593,47599,141994,47599,null,{"$f":"D63/'Pie Chart'!$O$31","v":39665.833333333336},{"$f":"E63/'Pie Chart'!$O$31","v":118328.33333333334}]
["Tri State Food Bank","PIKE",145308,33963,111345,33963,null,{"$f":"D64/'Pie Chart'!$O$31","v":28302.5},{"$f":"E64/'Pie Chart'!$O$31","v":92787.5}]
["Foodbank of Northwest Indiana","PORTER",737503,274757,462746,274757,null,{"$f":"D65/'Pie Chart'!$O$31","v":228964.16666666669},{"$f":"E65/'Pie Chart'!$O$31","v":385621.66666666669}]
["Tri State Food Bank","POSEY",154073,53153,{"$f":"C66-D66","v":100920},53153,null,{"$f":"D66/'Pie Chart'!$O$31","v":44294.166666666672},{"$f":"E66/'Pie Chart'!$O$31","v":84100}]
["Food Finders","PULASKI",81799,{"$f":"F67+G67","v":21042},60757,21042,null,{"$f":"D67/'Pie Chart'!$O$31","v":17535},{"$f":"E67/'Pie Chart'!$O$31","v":50630.833333333336}]
["Gleaners Food Bank","PUTNAM",252601,91910,160691,77661,14249,{"$f":"D68/'Pie Chart'!$O$31","v":76591.666666666672},{"$f":"E68/'Pie Chart'!$O$31","v":133909.16666666669}]
["SH FB of East Central","RANDOLPH",419582,64436,355146,64436,null,{"$f":"D69/'Pie Chart'!$O$31","v":53696.666666666672},{"$f":"E69/'Pie Chart'!$O$31","v":295955}]
["Gleaners Food Bank","RIPLEY",287875,68849,219026,68849,null,{"$f":"D70/'Pie Chart'!$O$31","v":57374.166666666672},{"$f":"E70/'Pie Chart'!$O$31","v":182521.66666666669}]
["Gleaners Food Bank","RUSH",130150,43753,86397,37940,5813,{"$f":"D71/'Pie Chart'!$O$31","v":36460.833333333336},{"$f":"E71/'Pie Chart'!$O$31","v":71997.5}]
["Gleaners Food Bank","SCOTT",247985,65205,182780,65205,null,{"$f":"D72/'Pie Chart'!$O$31","v":54337.5},{"$f":"E72/'Pie Chart'!$O$31","v":152316.66666666669}]
["Gleaners Food Bank","SHELBY",330111,102782,227329,95925,6857,{"$f":"D73/'Pie Chart'!$O$31","v":85651.666666666672},{"$f":"E73/'Pie Chart'!$O$31","v":189440.83333333334}]
["Tri State Food Bank","SPENCER",50492,44394,6098,44394,null,{"$f":"D74/'Pie Chart'!$O$31","v":36995},{"$f":"E74/'Pie Chart'!$O$31","v":5081.666666666667}]
["Food Bank Of Northern Indiana","SAINT JOSEPH",2846162,532583,2313579,532583,null,{"$f":"D75/'Pie Chart'!$O$31","v":443819.16666666669},{"$f":"E75/'Pie Chart'!$O$31","v":1927982.5}]
["Food Bank Of Northern Indiana","STARKE",181320,47542,133778,47542,null,{"$f":"D76/'Pie Chart'!$O$31","v":39618.333333333336},{"$f":"E76/'Pie Chart'!$O$31","v":111481.66666666667}]
["Community Harvest Food Bank of Northeast Indiana","STEUBEN",499826,55651,444175,55651,null,{"$f":"D77/'Pie Chart'!$O$31","v":46375.833333333336},{"$f":"E77/'Pie Chart'!$O$31","v":370145.83333333337}]
["Catholic Charities","SULLIVAN",137272,45774,91498,45774,null,{"$f":"D78/'Pie Chart'!$O$31","v":38145},{"$f":"E78/'Pie Chart'!$O$31","v":76248.333333333343}]
["Freestore Food Bank","SWITZERLAND",63596,25693,37903,25693,null,{"$f":"D79/'Pie Chart'!$O$31","v":21410.833333333336},{"$f":"E79/'Pie Chart'!$O$31","v":31585.833333333336}]
["Food Finders","TIPPECANOE",2731473,390503,2340970,390503,null,{"$f":"D80/'Pie Chart'!$O$31","v":325419.16666666669},{"$f":"E80/'Pie Chart'!$O$31","v":1950808.3333333335}]
["Food Finders","TIPTON",153308,23666,129642,23666,null,{"$f":"D81/'Pie Chart'!$O$31","v":19721.666666666668},{"$f":"E81/'Pie Chart'!$O$31","v":108035}]
["Gleaners Food Bank","UNION",48281,16604,31677,16604,null,{"$f":"D82/'Pie Chart'!$O$31","v":13836.666666666668},{"$f":"E82/'Pie Chart'!$O$31","v":26397.5}]
["Tri State Food Bank","VANDERBURGH",1695920,539573,1156347,539573,null,{"$f":"D83/'Pie Chart'!$O$31","v":449644.16666666669},{"$f":"E83/'Pie Chart'!$O$31","v":963622.5}]
["Catholic Charities","VERMILLION",105624,87473,18151,36231,51242,{"$f":"D84/'Pie Chart'!$O$31","v":72894.166666666672},{"$f":"E84/'Pie Chart'!$O$31","v":15125.833333333334}]
["Catholic Charities","VIGO",1181219,251364,929855,251364,null,{"$f":"D85/'Pie Chart'!$O$31","v":209470},{"$f":"E85/'Pie Chart'!$O$31","v":774879.16666666674}]
["SH FB of East Central","WABASH",644038,148634,495404,73196,75438,{"$f":"D86/'Pie Chart'!$O$31","v":123861.66666666667},{"$f":"E86/'Pie Chart'!$O$31","v":412836.66666666669}]
["Food Finders","WARREN",87749,10634,77115,10634,null,{"$f":"D87/'Pie Chart'!$O$31","v":8861.6666666666679},{"$f":"E87/'Pie Chart'!$O$31","v":64262.5}]
["Tri State Food Bank","WARRICK",452812,111613,341199,111613,null,{"$f":"D88/'Pie Chart'!$O$31","v":93010.833333333343},{"$f":"E88/'Pie Chart'!$O$31","v":284332.5}]
["Dare To Care ( Louisville)","WASHINGTON",365641,76413,289228,76413,null,{"$f":"D89/'Pie Chart'!$O$31","v":63677.5},{"$f":"E89/'Pie Chart'!$O$31","v":241023.33333333334}]
["Gleaners Food Bank","WAYNE",591227,214421,376806,214421,null,{"$f":"D90/'Pie Chart'!$O$31","v":178684.16666666669},{"$f":"E90/'Pie Chart'!$O$31","v":314005}]
["Community Harvest Food Bank of Northeast Indiana","WELLS",239722,30905,208817,30905,null,{"$f":"D91/'Pie Chart'!$O$31","v":25754.166666666668},{"$f":"E91/'Pie Chart'!$O$31","v":174014.16666666669}]
["Food Finders","WHITE",282820,37898,244922,37898,null,{"$f":"D92/'Pie Chart'!$O$31","v":31581.666666666668},{"$f":"E92/'Pie Chart'!$O$31","v":204101.66666666669}]
["Community Harvest Food Bank of Northeast Indiana","WHITLEY",499363,34041,465322,34041,null,{"$f":"D93/'Pie Chart'!$O$31","v":28367.5},{"$f":"E93/'Pie Chart'!$O$31","v":387768.33333333337}]
[null,"All ",{"$f":"SUM(C2:C93)","v":72605570},{"$f":"SUM(D2:D93)","v":15624273},56981297,14282514,1341759,13020227.499999993,47484414.166666664]

{"sheet":"Other Sources","index":6,"n_rows":94,"n_cols":12,"rows_kept":94,"cut":false,"hidden":true,"merged":[]}
["County","Sum of Other Private Food Sources","Sum of Other Federal Food Sources","Midwest + Other Independent FB Pounds","Midwest FB Meals","Second Helpings Meals","Cicoa Meals","CICOA Fed","CICOA Meals Private","SVDP Meals","Meals on Wheels","Second Helpings Pounds to meals"]
["Adams",{"$f":"SUM(E2:L2)-G2-H2","v":0},{"$f":"H2","v":0},null,{"$f":"D2/'Pie Chart'!$O$31","v":0}]
["Allen",{"$f":"SUM(E3:L3)-G3-H3","v":954372.5},{"$f":"H3","v":0},{"$f":"14445+1130802","v":1145247},{"$f":"D3/'Pie Chart'!$O$31","v":954372.5}]
["Bartholomew",21812.5,0,26175,{"$f":"D4/'Pie Chart'!$O$31","v":21812.5}]
["Benton",0,0,null,{"$f":"D5/'Pie Chart'!$O$31","v":0}]
["Blackford",0,0,null,{"$f":"D6/'Pie Chart'!$O$31","v":0}]
["Boone",60114,6321,58230,{"$f":"D7/'Pie Chart'!$O$31","v":48525},{"$f":"'Second Helpings'!C5","v":8880},{"$f":"9030","v":9030},{"$f":"0.7*G7","v":6321},{"$f":"G7-H7","v":2709}]
["Brown",35129.1,592.9,41850,{"$f":"D8/'Pie Chart'!$O$31","v":34875},null,{"$f":"847","v":847},{"$f":"0.7*G8","v":592.9},{"$f":"G8-H8","v":254.10000000000002}]
["Carroll",22175,0,26610,{"$f":"D9/'Pie Chart'!$O$31","v":22175}]
["Cass",19685,0,23622,{"$f":"D10/'Pie Chart'!$O$31","v":19685}]
["Clark",0,0,null,{"$f":"D11/'Pie Chart'!$O$31","v":0}]
["Clay",17125,0,20550,{"$f":"D12/'Pie Chart'!$O$31","v":17125}]
["Clinton",30900,0,37080,{"$f":"D13/'Pie Chart'!$O$31","v":30900}]
["Crawford",17862.5,0,21435,{"$f":"D14/'Pie Chart'!$O$31","v":17862.5}]
["Daviess",12437.5,0,14925,{"$f":"D15/'Pie Chart'!$O$31","v":12437.5}]
["Dearborn",0,0,null,{"$f":"D16/'Pie Chart'!$O$31","v":0}]
["Decatur",0,0,null,{"$f":"D17/'Pie Chart'!$O$31","v":0}]
["Dekalb",0,0,null,{"$f":"D18/'Pie Chart'!$O$31","v":0}]
["Delaware",0,0,null,{"$f":"D19/'Pie Chart'!$O$31","v":0}]
["Dubois",0,0,null,{"$f":"D20/'Pie Chart'!$O$31","v":0}]
["Elkhart",63837.5,0,76605,{"$f":"D21/'Pie Chart'!$O$31","v":63837.5}]
["Fayette",0,0,null,{"$f":"D22/'Pie Chart'!$O$31","v":0}]
["Floyd",0,0,null,{"$f":"D23/'Pie Chart'!$O$31","v":0}]
["Fountain",0,0,null,{"$f":"D24/'Pie Chart'!$O$31","v":0}]
["Franklin",0,0,null,{"$f":"D25/'Pie Chart'!$O$31","v":0}]
["Fulton",16487.5,0,19785,{"$f":"D26/'Pie Chart'!$O$31","v":16487.5}]
["Gibson",0,0,null,{"$f":"D27/'Pie Chart'!$O$31","v":0}]
["Grant",0,0,null,{"$f":"D28/'Pie Chart'!$O$31","v":0}]
["Greene",27350,0,32820,{"$f":"D29/'Pie Chart'!$O$31","v":27350}]
["Hamilton",356441.56666666665,13396.599999999999,381660,{"$f":"D30/'Pie Chart'!$O$31","v":318050},{"$f":"'Second Helpings'!D5","v":13056},{"$f":"19138","v":19138},{"$f":"0.7*G30","v":13396.599999999999},{"$f":"G30-H30","v":5741.4000000000015},null,{"$f":"1654/'Pie Chart'!$O$31","v":1378.3333333333335},{"$f":"'Second Helpings'!D7","v":18215.833333333336}]
["Hancock",35521,3374,40890,{"$f":"D31/'Pie Chart'!$O$31","v":34075},null,{"$f":"6266/1.3","v":4820},{"$f":"0.7*G31","v":3374},{"$f":"G31-H31","v":1446}]
["Harrison",0,0,null,{"$f":"D32/'Pie Chart'!$O$31","v":0}]
["Hendricks",96983.4,13407.099999999999,109485,{"$f":"D33/'Pie Chart'!$O$31","v":91237.5},null,19153,{"$f":"0.7*G33","v":13407.099999999999},{"$f":"G33-H33","v":5745.9000000000015}]
["Henry",13850,0,16620,{"$f":"D34/'Pie Chart'!$O$31","v":13850}]
["Howard",18787.5,0,22545,{"$f":"D35/'Pie Chart'!$O$31","v":18787.5}]
["Huntington",0,0,null,{"$f":"D36/'Pie Chart'!$O$31","v":0}]
["Jackson",46350,0,55620,{"$f":"D37/'Pie Chart'!$O$31","v":46350}]
["Jasper",16362.5,0,19635,{"$f":"D38/'Pie Chart'!$O$31","v":16362.5}]
["Jay",0,0,null,{"$f":"D39/'Pie Chart'!$O$31","v":0}]
["Jefferson",48112.5,0,57735,{"$f":"D40/'Pie Chart'!$O$31","v":48112.5}]
["Jennings",52187.5,0,62625,{"$f":"D41/'Pie Chart'!$O$31","v":52187.5}]
["Johnson",479678.86666666664,20089.3,356595,{"$f":"D42/'Pie Chart'!$O$31","v":297162.5},null,28699,{"$f":"0.7*G42","v":20089.3},{"$f":"G42-H42","v":8609.7000000000007},null,{"$f":"787/'Pie Chart'!$O$31","v":655.83333333333337},{"$f":"'Second Helpings'!E7","v":173250.83333333334}]
["Knox",0,0,null,{"$f":"D43/'Pie Chart'!$O$31","v":0}]
["Kosciusko",26750,0,32100,{"$f":"D44/'Pie Chart'!$O$31","v":26750}]
["Lagrange",0,0,null,{"$f":"D45/'Pie Chart'!$O$31","v":0}]
["Lake",125062.5,0,150075,{"$f":"D46/'Pie Chart'!$O$31","v":125062.5}]
["Laporte",0,0,null,{"$f":"D47/'Pie Chart'!$O$31","v":0}]
["Lawrence",11125,0,13350,{"$f":"D48/'Pie Chart'!$O$31","v":11125}]
["Madison",108462.5,0,130155,{"$f":"D49/'Pie Chart'!$O$31","v":108462.5}]
["Marion",6196140.2666666666,282041.89999999997,3909120,{"$f":"D50/'Pie Chart'!$O$31","v":3257600},{"$f":"'Second Helpings'!F5","v":706851},402917,{"$f":"0.7*G50","v":282041.89999999997},{"$f":"G50-H50","v":120875.10000000003},{"$f":"(500000+300000+100000+100000+100000)/'Pie Chart'!$O$31","v":916666.66666666674},{"$f":"332174/'Pie Chart'!$O$31","v":276811.66666666669},{"$f":"'Second Helpings'!F7","v":917335.83333333337}]
["Marshall",0,0,null,{"$f":"D51/'Pie Chart'!$O$31","v":0}]
["Martin",0,0,null,{"$f":"D52/'Pie Chart'!$O$31","v":0}]
["Miami",0,0,null,{"$f":"D53/'Pie Chart'!$O$31","v":0}]
["Monroe",79300,0,95160,{"$f":"D54/'Pie Chart'!$O$31","v":79300}]
["Montgomery",13562.5,0,16275,{"$f":"D55/'Pie Chart'!$O$31","v":13562.5}]
["Morgan",61093.26666666667,9832.9,64410,{"$f":"D56/'Pie Chart'!$O$31","v":53675},null,14047,{"$f":"0.7*G56","v":9832.9},{"$f":"G56-H56","v":4214.1000000000004},null,{"$f":"3845/'Pie Chart'!$O$31","v":3204.166666666667}]
["Newton",0,0,null,{"$f":"D57/'Pie Chart'!$O$31","v":0}]
["Noble",0,0,null,{"$f":"D58/'Pie Chart'!$O$31","v":0}]
["Ohio",0,0,null,{"$f":"D59/'Pie Chart'!$O$31","v":0}]
["Orange",0,0,null,{"$f":"D60/'Pie Chart'!$O$31","v":0}]
["Owen",32187.5,0,38625,{"$f":"D61/'Pie Chart'!$O$31","v":32187.5}]
["Parke",0,0,null,{"$f":"D62/'Pie Chart'!$O$31","v":0}]
["Perry",0,0,null,{"$f":"D63/'Pie Chart'!$O$31","v":0}]
["Pike",16825,0,20190,{"$f":"D64/'Pie Chart'!$O$31","v":16825}]
["Porter",0,0,null,{"$f":"D65/'Pie Chart'!$O$31","v":0}]
["Posey",0,0,null,{"$f":"D66/'Pie Chart'!$O$31","v":0}]
["Pulaski",{"$f":"SUM(E67:L67)-G67-H67","v":0},{"$f":"H67","v":0},null,{"$f":"D67/'Pie Chart'!$O$31","v":0}]
["Putnam",47378,182,56760,{"$f":"D68/'Pie Chart'!$O$31","v":47300},null,260,{"$f":"0.7*G68","v":182},{"$f":"G68-H68","v":78}]
["Randolph",23687.5,0,28425,{"$f":"D69/'Pie Chart'!$O$31","v":23687.5}]
["Ripley",24375,0,29250,{"$f":"D70/'Pie Chart'!$O$31","v":24375}]
["Rush",42950,0,51540,{"$f":"D71/'Pie Chart'!$O$31","v":42950}]
["Saint Joseph",0,0,null,{"$f":"D72/'Pie Chart'!$O$31","v":0}]
["Scott",0,0,null,{"$f":"D73/'Pie Chart'!$O$31","v":0}]
["Shelby",34942.400000000001,9840.5999999999985,36870,{"$f":"D74/'Pie Chart'!$O$31","v":30725},null,14058,{"$f":"0.7*G74","v":9840.5999999999985},{"$f":"G74-H74","v":4217.4000000000015}]
["Spencer",0,0,null,{"$f":"D75/'Pie Chart'!$O$31","v":0}]
["Starke",0,0,null,{"$f":"D76/'Pie Chart'!$O$31","v":0}]
["Steuben",0,0,null,{"$f":"D77/'Pie Chart'!$O$31","v":0}]
["Sullivan",0,0,null,{"$f":"D78/'Pie Chart'!$O$31","v":0}]
["Switzerland",0,0,null,{"$f":"D79/'Pie Chart'!$O$31","v":0}]
["Tippecanoe",15912.5,0,19095,{"$f":"D80/'Pie Chart'!$O$31","v":15912.5}]
["Tipton",0,0,null,{"$f":"D81/'Pie Chart'!$O$31","v":0}]
["Union",14275,0,17130,{"$f":"D82/'Pie Chart'!$O$31","v":14275}]
["Vanderburgh",0,0,null,{"$f":"D83/'Pie Chart'!$O$31","v":0}]
["Vermillion",0,0,null,{"$f":"D84/'Pie Chart'!$O$31","v":0}]
["Vigo",48475,0,58170,{"$f":"D85/'Pie Chart'!$O$31","v":48475}]
["Wabash",0,0,null,{"$f":"D86/'Pie Chart'!$O$31","v":0}]
["Warren",0,0,null,{"$f":"D87/'Pie Chart'!$O$31","v":0}]
["Warrick",0,0,null,{"$f":"D88/'Pie Chart'!$O$31","v":0}]
["Washington",0,0,null,{"$f":"D89/'Pie Chart'!$O$31","v":0}]
["Wayne",128012.5,0,153615,{"$f":"D90/'Pie Chart'!$O$31","v":128012.5}]
["Wells",58212.5,0,69855,{"$f":"D91/'Pie Chart'!$O$31","v":58212.5}]
["White",0,0,null,{"$f":"D92/'Pie Chart'!$O$31","v":0}]
["Whitley",0,0,null,{"$f":"D93/'Pie Chart'!$O$31","v":0}]
["All ",{"$f":"SUM(B2:B93)","v":9572291.8666666672},{"$f":"SUM(C2:C93)","v":359078.29999999993},7658514,6382095]

{"sheet":"Second Helpings","index":7,"n_rows":7,"n_cols":7,"rows_kept":7,"cut":false,"hidden":true,"merged":[]}
[]
[null,"Second Helpings"]
[]
[null,null,"Boone","Hamilton","Johnson","Marion","Total"]
[null,"Meals",8880,13056,null,{"$f":"G5-D5-C5","v":706851},728787]
[null,"Lbs",null,21859,207901,{"$f":"G6-E6-D6","v":1100803},1330563]
[null,"Lbs to Meals",null,{"$f":"D6/'Pie Chart'!$O$31","v":18215.833333333336},{"$f":"E6/'Pie Chart'!$O$31","v":173250.83333333334},{"$f":"F6/'Pie Chart'!$O$31","v":917335.83333333337},{"$f":"SUM(D7:F7)","v":1108802.5}]

{"sheet":"Charitable Response","index":8,"n_rows":94,"n_cols":8,"rows_kept":94,"cut":false,"hidden":true,"merged":[[15,7,16,13],[21,7,21,13]]}
["County","% from non-food bank sources","Food Bank  ","Food Bank Pounds","Food Bank Meals","Charitable Response"]
["Adams",{"$f":"1-0.688","v":0.31200000000000006},"Community Harvest",{"$f":"'Feeding America Food Bank'!C2","v":413125},{"$f":"D2/'Pie Chart'!$O$31","v":344270.83333333337},{"$f":"E2*B2","v":107412.50000000003}]
["Allen",{"$f":"1-0.688","v":0.31200000000000006},"Community Harvest",{"$f":"'Feeding America Food Bank'!C3","v":6322407},{"$f":"D3/'Pie Chart'!$O$31","v":5268672.5},{"$f":"E3*B3","v":1643825.8200000003}]
["Bartholomew",{"$f":"1-0.615","v":0.38500000000000001},"Gleaners",{"$f":"'Feeding America Food Bank'!C4","v":406772},{"$f":"D4/'Pie Chart'!$O$31","v":338976.66666666669},{"$f":"E4*B4","v":130506.01666666668}]
["Benton",{"$f":"1-0.71","v":0.29000000000000004},"Food Finders",{"$f":"'Feeding America Food Bank'!C5","v":74755},{"$f":"D5/'Pie Chart'!$O$31","v":62295.833333333336},18065.791666666668]
["Blackford",{"$f":"1-0.626","v":0.374},"Second Harvest of East Central IN",{"$f":"'Feeding America Food Bank'!C6","v":386135},{"$f":"D6/'Pie Chart'!$O$31","v":321779.16666666669},120345.40833333334]
["Boone",{"$f":"1-0.615","v":0.38500000000000001},"Gleaners",{"$f":"'Feeding America Food Bank'!C7","v":348086},{"$f":"D7/'Pie Chart'!$O$31","v":290071.66666666669},111677.59166666667]
["Brown",{"$f":"1-0.705","v":0.29500000000000004},"Hoosier Hills",{"$f":"'Feeding America Food Bank'!C8","v":174133},{"$f":"D8/'Pie Chart'!$O$31","v":145110.83333333334},42807.695833333339]
["Carroll",{"$f":"1-0.71","v":0.29000000000000004},"Food Finders",{"$f":"'Feeding America Food Bank'!C9","v":162740},{"$f":"D9/'Pie Chart'!$O$31","v":135616.66666666669},39328.833333333343]
["Cass",0.29000000000000004,"Food Finders",{"$f":"'Feeding America Food Bank'!C10","v":394615},{"$f":"D10/'Pie Chart'!$O$31","v":328845.83333333337},95365.291666666686]
["Clark",{"$f":"1-0.848","v":0.15200000000000002},"Dare To Care",{"$f":"'Feeding America Food Bank'!C11","v":1365610},{"$f":"D11/'Pie Chart'!$O$31","v":1138008.3333333335},172977.26666666672]
["Clay",{"$f":"1-0.515","v":0.48499999999999999},"Terre Haute Catholic Charities",{"$f":"'Feeding America Food Bank'!C12","v":248200},{"$f":"D12/'Pie Chart'!$O$31","v":206833.33333333334},100314.16666666667]
["Clinton",{"$f":"1-0.71","v":0.29000000000000004},"Food Finders",{"$f":"'Feeding America Food Bank'!C13","v":227653},{"$f":"D13/'Pie Chart'!$O$31","v":189710.83333333334},55016.141666666677]
["Crawford",{"$f":"1-0.848","v":0.15200000000000002},"Dare To Care",{"$f":"'Feeding America Food Bank'!C14","v":332586},{"$f":"D14/'Pie Chart'!$O$31","v":277155},42127.560000000005]
["Daviess",{"$f":"1-0.641","v":0.35899999999999999},"Tri State",{"$f":"'Feeding America Food Bank'!C15","v":344770},{"$f":"D15/'Pie Chart'!$O$31","v":287308.33333333337},103143.69166666668]
["Dearborn",{"$f":"1-0.615","v":0.38500000000000001},"Freestone (Cincinatti) used Gleaners",{"$f":"'Feeding America Food Bank'!C16","v":746149},{"$f":"D16/'Pie Chart'!$O$31","v":621790.83333333337},239389.47083333335,null,"This information came from table 13.1.1 in the Hunger in America 2010 study for the Foodbank which serves the county."]
["Decatur",{"$f":"1-0.615","v":0.38500000000000001},"Gleaners",{"$f":"'Feeding America Food Bank'!C17","v":488499},{"$f":"D17/'Pie Chart'!$O$31","v":407082.5},156726.76250000001]
["Dekalb",{"$f":"1-0.688","v":0.31200000000000006},"Community Harvest",{"$f":"'Feeding America Food Bank'!C18","v":246914},{"$f":"D18/'Pie Chart'!$O$31","v":205761.66666666669},64197.640000000014]
["Delaware",{"$f":"1-0.626","v":0.374},"Second Harvest of East Central IN",{"$f":"'Feeding America Food Bank'!C19","v":1980009},{"$f":"D19/'Pie Chart'!$O$31","v":1650007.5},617102.80500000005]
["Dubois",{"$f":"1-0.641","v":0.35899999999999999},"Tri State",{"$f":"'Feeding America Food Bank'!C20","v":183685},{"$f":"D20/'Pie Chart'!$O$31","v":153070.83333333334},54952.429166666669]
["Elkhart",{"$f":"1-0.53","v":0.47},"Food Bank of Northern Indiana",{"$f":"'Feeding America Food Bank'!C21","v":1035392},{"$f":"D21/'Pie Chart'!$O$31","v":862826.66666666674},405528.53333333333]
["Fayette",{"$f":"1-0.615","v":0.38500000000000001},"Gleaners",{"$f":"'Feeding America Food Bank'!C22","v":222562},{"$f":"D22/'Pie Chart'!$O$31","v":185468.33333333334},71405.308333333334]
["Floyd",{"$f":"1-0.848","v":0.15200000000000002},"Dare To Care",{"$f":"'Feeding America Food Bank'!C23","v":719686},{"$f":"D23/'Pie Chart'!$O$31","v":599738.33333333337},91160.226666666684]
["Fountain",{"$f":"1-0.71","v":0.29000000000000004},"Food Finders",{"$f":"'Feeding America Food Bank'!C24","v":202911},{"$f":"D24/'Pie Chart'!$O$31","v":169092.5},49036.825000000004]
["Franklin",{"$f":"1-0.615","v":0.38500000000000001},"Freestone (Cincinatti) Used Gleaners",{"$f":"'Feeding America Food Bank'!C25","v":138342},{"$f":"D25/'Pie Chart'!$O$31","v":115285},44384.724999999999]
["Fulton",{"$f":"1-0.71","v":0.29000000000000004},"Food Finders",{"$f":"'Feeding America Food Bank'!C26","v":137601},{"$f":"D26/'Pie Chart'!$O$31","v":114667.5},33253.575000000004]
["Gibson",{"$f":"1-0.641","v":0.35899999999999999},"Tri State",{"$f":"'Feeding America Food Bank'!C27","v":246126},{"$f":"D27/'Pie Chart'!$O$31","v":205105},73632.694999999992]
["Grant",{"$f":"1-0.626","v":0.374},"Second Harvest of East Central IN",{"$f":"'Feeding America Food Bank'!C28","v":2518850},{"$f":"D28/'Pie Chart'!$O$31","v":2099041.666666667},785041.58333333349]
["Greene",{"$f":"1-0.515","v":0.48499999999999999},"Terre Haute Catholic Charities",{"$f":"'Feeding America Food Bank'!C29","v":326774},{"$f":"D29/'Pie Chart'!$O$31","v":272311.66666666669},132071.15833333333]
["Hamilton",{"$f":"1-0.615","v":0.38500000000000001},"Gleaners",{"$f":"'Feeding America Food Bank'!C30","v":967763},{"$f":"D30/'Pie Chart'!$O$31","v":806469.16666666674},310490.62916666671]
["Hancock",0.38500000000000001,"Gleaners",{"$f":"'Feeding America Food Bank'!C31","v":307142},{"$f":"D31/'Pie Chart'!$O$31","v":255951.66666666669},98541.391666666677]
["Harrison",{"$f":"1-0.848","v":0.15200000000000002},"Dare To Care",{"$f":"'Feeding America Food Bank'!C32","v":674007},{"$f":"D32/'Pie Chart'!$O$31","v":561672.5},85374.220000000016]
["Hendricks",{"$f":"1-0.615","v":0.38500000000000001},"Gleaners",{"$f":"'Feeding America Food Bank'!C33","v":531070},{"$f":"D33/'Pie Chart'!$O$31","v":442558.33333333337},170384.95833333334]
["Henry",{"$f":"1-0.626","v":0.374},"Second Harvest of East Central IN",{"$f":"'Feeding America Food Bank'!C34","v":1819740},{"$f":"D34/'Pie Chart'!$O$31","v":1516450},567152.30000000005]
["Howard",{"$f":"1-0.71","v":0.29000000000000004},"Food Finders",{"$f":"'Feeding America Food Bank'!C35","v":619661},{"$f":"D35/'Pie Chart'!$O$31","v":516384.16666666669},149751.40833333335]
["Huntington",{"$f":"1-0.688","v":0.31200000000000006},"Community Harvest",{"$f":"'Feeding America Food Bank'!C36","v":415070},{"$f":"D36/'Pie Chart'!$O$31","v":345891.66666666669},107918.20000000003]
["Jackson",{"$f":"1-0.615","v":0.38500000000000001},"Gleaners",{"$f":"'Feeding America Food Bank'!C37","v":293390},{"$f":"D37/'Pie Chart'!$O$31","v":244491.66666666669},94129.291666666672]
["Jasper",{"$f":"1-0.71","v":0.29000000000000004},"Food Finders",{"$f":"'Feeding America Food Bank'!C38","v":153713},{"$f":"D38/'Pie Chart'!$O$31","v":128094.16666666667},37147.308333333342]
["Jay",{"$f":"1-0.626","v":0.374},"Second Harvest of East Central IN",{"$f":"'Feeding America Food Bank'!C39","v":489843},{"$f":"D39/'Pie Chart'!$O$31","v":408202.5},152667.73499999999]
["Jefferson",{"$f":"1-0.615","v":0.38500000000000001},"Gleaners",{"$f":"'Feeding America Food Bank'!C40","v":364020},{"$f":"D40/'Pie Chart'!$O$31","v":303350},116789.75]
["Jennings",0.38500000000000001,"Gleaners",{"$f":"'Feeding America Food Bank'!C41","v":352943},{"$f":"D41/'Pie Chart'!$O$31","v":294119.16666666669},113235.87916666668]
["Johnson",0.38500000000000001,"Gleaners",{"$f":"'Feeding America Food Bank'!C42","v":875256},{"$f":"D42/'Pie Chart'!$O$31","v":729380},280811.3]
["Knox",{"$f":"1-0.515","v":0.48499999999999999},"Terre Haute Catholic Charities",{"$f":"'Feeding America Food Bank'!C43","v":236005},{"$f":"D43/'Pie Chart'!$O$31","v":196670.83333333334},95385.354166666672]
["Kosciusko",{"$f":"1-0.53","v":0.47},"Food Bank of Northern Indiana",{"$f":"'Feeding America Food Bank'!C44","v":446910},{"$f":"D44/'Pie Chart'!$O$31","v":372425},175039.75]
["Lagrange",{"$f":"1-0.688","v":0.31200000000000006},"Community Harvest",{"$f":"'Feeding America Food Bank'!C45","v":647300},{"$f":"D45/'Pie Chart'!$O$31","v":539416.66666666674},168298.00000000006]
["Lake",{"$f":"1-0.612","v":0.38800000000000001},"Foodbank of Northwest Indiana",{"$f":"'Feeding America Food Bank'!C46","v":517008},{"$f":"D46/'Pie Chart'!$O$31","v":430840},167165.92000000001]
["Laporte",{"$f":"1-0.53","v":0.47},"Food Bank of Northern Indiana",{"$f":"'Feeding America Food Bank'!C47","v":4231192},{"$f":"D47/'Pie Chart'!$O$31","v":3525993.3333333335},1657216.8666666667]
["Lawrence",{"$f":"1-0.705","v":0.29500000000000004},"Hoosier Hills",{"$f":"'Feeding America Food Bank'!C48","v":539368},{"$f":"D48/'Pie Chart'!$O$31","v":449473.33333333337},132594.63333333336]
["Madison",{"$f":"1-0.626","v":0.374},"Second Harvest of East Central IN",{"$f":"'Feeding America Food Bank'!C49","v":2298354},{"$f":"D49/'Pie Chart'!$O$31","v":1915295},716320.33]
["Marion",{"$f":"1-0.615","v":0.38500000000000001},"Gleaners",{"$f":"'Feeding America Food Bank'!C50","v":14517627},{"$f":"D50/'Pie Chart'!$O$31","v":12098022.5},4657738.6625000006]
["Marshall",{"$f":"1-0.53","v":0.47},"Food Bank of Northern Indiana",{"$f":"'Feeding America Food Bank'!C51","v":398130},{"$f":"D51/'Pie Chart'!$O$31","v":331775},155934.25]
["Martin",{"$f":"1-0.705","v":0.29500000000000004},"Hoosier Hills",{"$f":"'Feeding America Food Bank'!C52","v":71004},{"$f":"D52/'Pie Chart'!$O$31","v":59170},17455.150000000001]
["Miami",{"$f":"1-0.71","v":0.29000000000000004},"Food Finders",{"$f":"'Feeding America Food Bank'!C53","v":284197},{"$f":"D53/'Pie Chart'!$O$31","v":236830.83333333334},68680.94166666668]
["Monroe",{"$f":"1-0.705","v":0.29500000000000004},"Hoosier Hills",{"$f":"'Feeding America Food Bank'!C54","v":1591171},{"$f":"D54/'Pie Chart'!$O$31","v":1325975.8333333335},391162.87083333341]
["Montgomery",{"$f":"1-0.71","v":0.29000000000000004},"Food Finders",{"$f":"'Feeding America Food Bank'!C55","v":315400},{"$f":"D55/'Pie Chart'!$O$31","v":262833.33333333337},76221.666666666686]
["Morgan",{"$f":"1-0.615","v":0.38500000000000001},"Gleaners",{"$f":"'Feeding America Food Bank'!C56","v":298642},{"$f":"D56/'Pie Chart'!$O$31","v":248868.33333333334},95814.308333333334]
["Newton",{"$f":"1-0.71","v":0.29000000000000004},"Food Finders",{"$f":"'Feeding America Food Bank'!C57","v":158453},{"$f":"D57/'Pie Chart'!$O$31","v":132044.16666666669},38292.808333333342]
["Noble",{"$f":"1-0.688","v":0.31200000000000006},"Community Harvest",{"$f":"'Feeding America Food Bank'!C58","v":1055801},{"$f":"D58/'Pie Chart'!$O$31","v":879834.16666666674},274508.26000000007]
["Ohio",{"$f":"1-0.615","v":0.38500000000000001},"Freestone (Cincinatti) Used Gleaners",{"$f":"'Feeding America Food Bank'!C59","v":31994},{"$f":"D59/'Pie Chart'!$O$31","v":26661.666666666668},10264.741666666667]
["Orange",{"$f":"1-0.705","v":0.29500000000000004},"Hoosier Hills",{"$f":"'Feeding America Food Bank'!C60","v":210752},{"$f":"D60/'Pie Chart'!$O$31","v":175626.66666666669},51809.866666666676]
["Owen",0.29500000000000004,"Hoosier Hills",{"$f":"'Feeding America Food Bank'!C61","v":455409},{"$f":"D61/'Pie Chart'!$O$31","v":379507.5},111954.71250000001]
["Parke",{"$f":"1-0.515","v":0.48499999999999999},"Terre Haute Catholic Charities",{"$f":"'Feeding America Food Bank'!C62","v":207703},{"$f":"D62/'Pie Chart'!$O$31","v":173085.83333333334},83946.629166666666]
["Perry",{"$f":"1-0.641","v":0.35899999999999999},"Tri State",{"$f":"'Feeding America Food Bank'!C63","v":189593},{"$f":"D63/'Pie Chart'!$O$31","v":157994.16666666669},56719.905833333338]
["Pike",0.35899999999999999,"Tri State",{"$f":"'Feeding America Food Bank'!C64","v":145308},{"$f":"D64/'Pie Chart'!$O$31","v":121090},43471.31]
["Porter",{"$f":"1-0.612","v":0.38800000000000001},"Foodbank of Northwest Indiana",{"$f":"'Feeding America Food Bank'!C65","v":737503},{"$f":"D65/'Pie Chart'!$O$31","v":614585.83333333337},238459.30333333334]
["Posey",{"$f":"1-0.641","v":0.35899999999999999},"Tri State",{"$f":"'Feeding America Food Bank'!C66","v":154073},{"$f":"D66/'Pie Chart'!$O$31","v":128394.16666666667},46093.505833333336]
["Pulaski",{"$f":"1-0.71","v":0.29000000000000004},"Food Finders",{"$f":"'Feeding America Food Bank'!C67","v":81799},{"$f":"D67/'Pie Chart'!$O$31","v":68165.833333333343},19768.091666666671]
["Putnam",{"$f":"1-0.615","v":0.38500000000000001},"Gleaners",{"$f":"'Feeding America Food Bank'!C68","v":252601},{"$f":"D68/'Pie Chart'!$O$31","v":210500.83333333334},{"$f":"E68*B68","v":81042.820833333346}]
["Randolph",{"$f":"1-0.626","v":0.374},"Second Harvest of East Central IN",{"$f":"'Feeding America Food Bank'!C69","v":419582},{"$f":"D69/'Pie Chart'!$O$31","v":349651.66666666669},130769.72333333334]
["Ripley",{"$f":"1-0.615","v":0.38500000000000001},"Gleaners",{"$f":"'Feeding America Food Bank'!C70","v":287875},{"$f":"D70/'Pie Chart'!$O$31","v":239895.83333333334},92359.895833333343]
["Rush",0.38500000000000001,"Gleaners",{"$f":"'Feeding America Food Bank'!C71","v":130150},{"$f":"D71/'Pie Chart'!$O$31","v":108458.33333333334},41756.458333333336]
["Saint Joseph",{"$f":"1-0.53","v":0.47},"Food Bank of Northern Indiana",{"$f":"'Feeding America Food Bank'!C72","v":247985},{"$f":"D72/'Pie Chart'!$O$31","v":206654.16666666669},97127.458333333343]
["Scott",{"$f":"1-0.615","v":0.38500000000000001},"Gleaners",{"$f":"'Feeding America Food Bank'!C73","v":330111},{"$f":"D73/'Pie Chart'!$O$31","v":275092.5},105910.6125]
["Shelby",0.38500000000000001,"Gleaners",{"$f":"'Feeding America Food Bank'!C74","v":50492},{"$f":"D74/'Pie Chart'!$O$31","v":42076.666666666672},16199.516666666668]
["Spencer",{"$f":"1-0.848","v":0.15200000000000002},"Dare To Care",{"$f":"'Feeding America Food Bank'!C75","v":2846162},{"$f":"D75/'Pie Chart'!$O$31","v":2371801.666666667},360513.85333333345]
["Starke",{"$f":"1-0.53","v":0.47},"Food Bank of Northern Indiana",{"$f":"'Feeding America Food Bank'!C76","v":181320},{"$f":"D76/'Pie Chart'!$O$31","v":151100},71017]
["Steuben",{"$f":"1-0.688","v":0.31200000000000006},"Community Harvest",{"$f":"'Feeding America Food Bank'!C77","v":499826},{"$f":"D77/'Pie Chart'!$O$31","v":416521.66666666669},129954.76000000002]
["Sullivan",{"$f":"1-0.515","v":0.48499999999999999},"Terre Haute Catholic Charities",{"$f":"'Feeding America Food Bank'!C78","v":137272},{"$f":"D78/'Pie Chart'!$O$31","v":114393.33333333334},55480.76666666667]
["Switzerland",{"$f":"1-0.615","v":0.38500000000000001},"Freestone (Cincinatti) Used Gleaners",{"$f":"'Feeding America Food Bank'!C79","v":63596},{"$f":"D79/'Pie Chart'!$O$31","v":52996.666666666672},20403.716666666671]
["Tippecanoe",{"$f":"1-0.71","v":0.29000000000000004},"Food Finders",{"$f":"'Feeding America Food Bank'!C80","v":2731473},{"$f":"D80/'Pie Chart'!$O$31","v":2276227.5},660105.97500000009]
["Tipton",0.29000000000000004,"Food Finders",{"$f":"'Feeding America Food Bank'!C81","v":153308},{"$f":"D81/'Pie Chart'!$O$31","v":127756.66666666667},37049.433333333342]
["Union",{"$f":"1-0.615","v":0.38500000000000001},"Gleaners",{"$f":"'Feeding America Food Bank'!C82","v":48281},{"$f":"D82/'Pie Chart'!$O$31","v":40234.166666666672},15490.154166666669]
["Vanderburgh",{"$f":"1-0.641","v":0.35899999999999999},"Tri State",{"$f":"'Feeding America Food Bank'!C83","v":1695920},{"$f":"D83/'Pie Chart'!$O$31","v":1413266.6666666667},507362.73333333334]
["Vermillion",{"$f":"1-0.515","v":0.48499999999999999},"Terre Haute Catholic Charities",{"$f":"'Feeding America Food Bank'!C84","v":105624},{"$f":"D84/'Pie Chart'!$O$31","v":88020},42689.7]
["Vigo",0.48499999999999999,"Terre Haute Catholic Charities",{"$f":"'Feeding America Food Bank'!C85","v":1181219},{"$f":"D85/'Pie Chart'!$O$31","v":984349.16666666674},477409.34583333338]
["Wabash",{"$f":"1-0.626","v":0.374},"Second Harvest of East Central IN",{"$f":"'Feeding America Food Bank'!C86","v":644038},{"$f":"D86/'Pie Chart'!$O$31","v":536698.33333333337},200725.17666666667]
["Warren",{"$f":"1-0.71","v":0.29000000000000004},"Food Finders",{"$f":"'Feeding America Food Bank'!C87","v":87749},{"$f":"D87/'Pie Chart'!$O$31","v":73124.166666666672},21206.008333333339]
["Warrick",{"$f":"1-0.641","v":0.35899999999999999},"Tri State",{"$f":"'Feeding America Food Bank'!C88","v":452812},{"$f":"D88/'Pie Chart'!$O$31","v":377343.33333333337},135466.25666666668]
["Washington",{"$f":"1-0.848","v":0.15200000000000002},"Dare To Care",{"$f":"'Feeding America Food Bank'!C89","v":365641},{"$f":"D89/'Pie Chart'!$O$31","v":304700.83333333337},46314.526666666679]
["Wayne",{"$f":"1-0.615","v":0.38500000000000001},"Gleaners",{"$f":"'Feeding America Food Bank'!C90","v":591227},{"$f":"D90/'Pie Chart'!$O$31","v":492689.16666666669},189685.32916666669]
["Wells",{"$f":"1-0.688","v":0.31200000000000006},"Community Harvest",{"$f":"'Feeding America Food Bank'!C91","v":239722},{"$f":"D91/'Pie Chart'!$O$31","v":199768.33333333334},62327.720000000016]
["White",{"$f":"1-0.71","v":0.29000000000000004},"Food Finders",{"$f":"'Feeding America Food Bank'!C92","v":282820},{"$f":"D92/'Pie Chart'!$O$31","v":235683.33333333334},68348.166666666672]
["Whitley",{"$f":"1-0.688","v":0.31200000000000006},"Community Harvest",{"$f":"'Feeding America Food Bank'!C93","v":499363},{"$f":"D93/'Pie Chart'!$O$31","v":416135.83333333337},129834.38000000003]
["All ",null,null,null,null,{"$f":"SUM(F2:F93)","v":21232061.212499991}]